BEGIN:VCALENDAR
VERSION:2.0
PRODID:-//ChamberMaster//Event Calendar 2.0//EN
METHOD:PUBLISH
X-PUBLISHED-TTL:P3D
REFRESH-INTERVAL:P3D
CALSCALE:GREGORIAN
BEGIN:VEVENT
DTSTART;VALUE=DATE:20150411
DTEND;VALUE=DATE:20150412
TRANSP:TRANSPARENT
X-MICROSOFT-CDO-ALLDAYEVENT:TRUE
SUMMARY:Saratoga Tattoo Expo 2015
DESCRIPTION:Saratoga Tattoo Expo.
X-ALT-DESC;FMTTYPE=text/html:<p>Saratoga Tattoo Expo.</p>\n
LOCATION:Saratoga City Center
UID:e.2254.5796
SEQUENCE:3
DTSTAMP:20260423T182109Z
URL:http://saratogatourism-gzcms.preview.gochambermaster.com/events/details/saratoga-tattoo-expo-2015-04-11-2015-5796
END:VEVENT

END:VCALENDAR
