BEGIN:VCALENDAR
VERSION:2.0
PRODID:-//ChamberMaster//Event Calendar 2.0//EN
METHOD:PUBLISH
X-PUBLISHED-TTL:P3D
REFRESH-INTERVAL:P3D
CALSCALE:GREGORIAN
BEGIN:VEVENT
DTSTART:20150803T221500Z
DTEND:20150803T233000Z
X-MICROSOFT-CDO-ALLDAYEVENT:FALSE
SUMMARY:Saratoga Stryders' 5k Trail Run Series
DESCRIPTION:Open to all. Low Key. Proceeds benefit Wilton Wildlife Preserve & Park\, the Jake Fund and Saratoga Spa State Park.
X-ALT-DESC;FMTTYPE=text/html:Open to all. Low Key. Proceeds benefit Wilton Wildlife Preserve &amp\; Park\, the Jake Fund and Saratoga Spa State Park.
LOCATION:Camp Saratoga\, Wilton Wildlife Preserve
UID:e.2254.8710
SEQUENCE:3
DTSTAMP:20260423T014612Z
URL:http://saratogatourism-gzcms.preview.gochambermaster.com/events/details/saratoga-stryders-5k-trail-run-series-08-03-2015-8710
END:VEVENT

END:VCALENDAR
