BEGIN:VCALENDAR
VERSION:2.0
PRODID:-//ChamberMaster//Event Calendar 2.0//EN
METHOD:PUBLISH
X-PUBLISHED-TTL:P3D
REFRESH-INTERVAL:P3D
CALSCALE:GREGORIAN
BEGIN:VEVENT
DTSTART:20140703T110000Z
DTEND:20140706T000000Z
X-MICROSOFT-CDO-ALLDAYEVENT:FALSE
SUMMARY:Saratoga's All-American Celebration - 07/03/2014
DESCRIPTION:All American 4th of July Celebration\n\n\nTHURSDAY\, JULY 3\, 2014\n\n\n\n\n\nSaratoga Springs History Museum Exhibit Grand Opening (Members Only) "Vice"\nThursday\, July 3\, 2014\n6:00pm to 8:00pm\nCanfield Casino\, Congress Park\n\nOur friends at the Saratoga Springs History Museum open this year's exhibit\, Vice in Saratoga.  Please consider becoming a member so you can attend the grand opening!\n\n\n\n\n\nFireside Chat with 'General Burgoyne'\nThursday\, July 3\, 2014\n7:00pm to 8:00pm\nBookmaker's Fireplace Patio at the Holiday Inn\n\nOur official events begin with a July 4th-eve Fireside Chat.  Come listen to 'General Burgoyne' recount his vantage point of the Battle of Saratoga\, the turning point of the American 'Rebellion.'  FREE s'mores for all the kids!\n\n\n\n\n\nFRIDAY\, JULY 4\, 2014\n\n\n\n\n\nFirecracker4 Road Race\nFriday\, July 4\, 2014\n9:00am to 10:30am\nBroadway in front of the City Center\n\nCome cheer for the thousands of runners and then stay for the All-American Parade!  The Firecracker4 Road Race is organized by our friends at FC4\, Inc. 501(c)3.  To learn more\, visit www.Firecracker4.com \n\n\n\n\n\nAll-American Parade & Patriotic Pooches\nFriday\, July 4\, 2014\n11:00am to 11:30am\nBroadway from Van Dam Street to Spring Street\n\nOur July 4th events open with the All-American Parade marching down Broadway from Van Dam Street to Spring Street.  The parade\, led by the Korean War Veterans Color Guard\, includes historical re-enactors\, civic groups and City leaders\, municipalities from all across Saratoga County\, music\, fun\, and more!  Be sure to see the dozens of adorable Patriotic Pooches that march in the parade every year thanks to our friends at www.SloppyKissesofSaratoga.com \n\n\n\n\n\nFamily Day in Congress Park\nFriday\, July 4\, 2014\n11:00am to 3:00pm\nCongress Park\n\nOur great friends at the Saratoga Spring History Museum sponsor Family Day in Congress Park with live re-enactors\, historic kids games\, face painting\, carousel rides\, live music\, food\, and more!\n\n\n\n\n\nParade Characters Family Photo-Op\nFriday\, July 4\, 2014\n11:30am to 3:00pm\nCongress Park at the Carousel\n\nBring the kids to have their pictures taken with the characters from the parade including General Burgoyne\, Ben Franklin and MANY more!\n\n\n\n\n\nAll-American BBQ & Dessert Fest\nFriday\, July 4\, 2014\n11:30am to 3:30pm\nVarious locations throughout downtown\nand outside the Holiday Inn\n\nThe Seventh-Annual All-American BBQ & Dessert Fest is back and bigger than ever!  With dozens of participating restaurants and organizations\, you'll be able to try some of the best BBQ and dessert that Saratoga Springs has to offer!  \nEach tasting is $1 paid to each participant at their locations.  Most participants are located in and around downtown and more will be set up in the Holiday Inn parking lot.\n\n\n\n\n\n\n\n\nAll-American Classic Car Show\nFriday\, July 4\, 2014\n12noon to 4:00pm\nCongress Park Plaza\n\nCome see up to 70 beautiful American and exotic classic cars lining Congress Park plaza.  These pieces of American history are perfectly restored and impressively built.  Enjoy a trip through time and pick your favorites!\n(Register to compete in the Classic Car Show)\n\n\n\n\n\nHistoric City Tour\nCongress Park: Statues and Stories\nFriday\, July 4\, 2014\n1:00pm to 2:30pm\nMeet at the Congress Spring Pavilion in Congress Park\n\nJoin Charlie Kuenzel\, Dave Patterson\, and Bob Baker as they guide a 90-minute walking tour of the Congress Park area focusing on the memorials\, monuments and statues that adorn the park and help to preserve our city's history.\n\n\n\n\n\nFamily Time in Saratoga\nFriday\, July 4\, 2014\n4:00pm to 6:30pm \n\n\nRound up the troops and visit one of our fine downtown restaurants or bring your picnic to Congress Park leading up to the Party in the Park featuring the Audiostars.\n\n\n\n\n\n\nParty in the Park\nwith the Audiostars\nFriday\, July 4\, 2014\n6:30pm to 9:30pm\nCongress Park\n\nJoin us for the biggest Party in the Park to date starting at 6:30pm leading up to the Fireworks at dusk!  This year's Party again features a live concert from our area's hottest band\, THE AUDIOSTARS.  Spread out your blankets and enjoy music\, food\, family\, and 10\,000 of your closest friends celebrating our nation's freedom! \n\n\n\n\n\nLive Reading of the Declaration of Independence\nFriday\, July 4\, 2014\n9:15pm\nCongress Park\n\nExperience the patriotic pride of hearing our nation's founding document read aloud over a crowd of thousands echoing through historic Congress Park.  It's a moment you'll never forget.\n\n\n\n\n\nFireworks w/ Patriotic Music\nSponsored by\nSaratoga Casino & Raceway\nFriday\, July 4\, 2014\n9:30pm\nCongress Park\n\nOur friends at Alonzo Fireworks bring you another incredible fireworks display up close and personal in Congress Park sponsored by the huge support of Saratoga Casino and Raceway!  Set to patriotic music thanks to our friends at Saratoga Guitar and The Jockey 101.3 FM.
X-ALT-DESC;FMTTYPE=text/html:<p>All American 4th of July Celebration</p><table style="width: 90%\;" border="0">\n<tbody>\n<tr>\n<td colspan="2" valign="top" width="100%"><strong><span style="font-size: medium\; font-family: Trebuchet MS\; color: #c00015\;">THURSDAY\, JULY 3\, 2014</span></strong></td>\n</tr>\n<tr>\n<td colspan="2" valign="middle" width="100%" height="20"><hr /></td>\n</tr>\n<tr>\n<td valign="top" width="50%"><strong><span style="font-size: small\; font-family: Trebuchet MS\; color: #0000b2\;">Saratoga Springs History Museum Exhibit Grand Opening (Members Only) <em>"Vice"</em></span></strong>\n<p><span style="font-size: small\; font-family: Trebuchet MS\; color: #333333\;"><strong>Thursday\, July 3\, 2014<br />6:00pm to 8:00pm<br /></strong>Canfield Casino\, Congress Park</span></p>\n</td>\n<td valign="top" width="50%"><span style="font-size: small\; font-family: Trebuchet MS\; color: #333333\;">Our friends at the <a href="http://www.saratogahistory.org/" target="_blank">Saratoga Springs History Museum</a> open this year's exhibit\, <em>Vice in Saratoga</em>.&nbsp\; Please consider becoming a member so you can attend the grand opening!</span></td>\n</tr>\n<tr>\n<td colspan="2" valign="middle" width="100%" height="20"><hr /></td>\n</tr>\n<tr>\n<td valign="top" width="50%"><strong><span style="font-size: small\; font-family: Trebuchet MS\; color: #0000b2\;">Fireside Chat with 'General Burgoyne'</span></strong>\n<p><span style="font-size: small\; font-family: Trebuchet MS\; color: #333333\;"><strong>Thursday\, July 3\, 2014<br />7:00pm to 8:00pm<br /></strong>Bookmaker's Fireplace Patio at the Holiday Inn</span></p>\n</td>\n<td valign="top" width="50%"><span style="font-size: small\; font-family: Trebuchet MS\; color: #333333\;">Our official events begin with a July 4th-eve Fireside Chat.&nbsp\; Come listen to 'General Burgoyne' recount his vantage point of the Battle of Saratoga\, the turning point of the American 'Rebellion.'&nbsp\; <strong><span style="text-decoration: underline\;">FREE</span></strong> s'mores for all the kids!</span></td>\n</tr>\n<tr>\n<td colspan="2" valign="middle" width="100%" height="20"><hr /></td>\n</tr>\n<tr>\n<td colspan="2" valign="top" width="100%"><strong><span style="font-size: medium\; font-family: Trebuchet MS\; color: #c00015\;">FRIDAY\, JULY 4\, 2014</span></strong></td>\n</tr>\n<tr>\n<td colspan="2" valign="middle" width="100%" height="20"><hr /></td>\n</tr>\n<tr>\n<td valign="top" width="50%"><strong><span style="font-size: small\; font-family: Trebuchet MS\; color: #0000b2\;">Firecracker4 Road Race</span></strong>\n<p><span style="font-size: small\; font-family: Trebuchet MS\; color: #333333\;"><strong>Friday\, July 4\, 2014<br />9:00am to 10:30am<br /></strong>Broadway in front of the City Center</span></p>\n</td>\n<td valign="top" width="50%"><span style="font-size: small\; font-family: Trebuchet MS\; color: #333333\;">Come cheer for the thousands of runners and then stay for the All-American Parade!&nbsp\; The Firecracker4 Road Race is organized by our friends at FC4\, Inc. 501(c)3.&nbsp\; To learn more\, visit <a href="http://www.firecracker4.com/" target="_blank">www.Firecracker4.com</a>&nbsp\;</span></td>\n</tr>\n<tr>\n<td colspan="2" valign="middle" width="100%" height="20"><hr /></td>\n</tr>\n<tr>\n<td valign="top" width="50%"><strong><span style="font-size: small\; font-family: Trebuchet MS\; color: #0000b2\;">All-American Parade &amp\; Patriotic Pooches</span></strong>\n<p><span style="font-size: small\; font-family: Trebuchet MS\; color: #333333\;"><strong>Friday\, July 4\, 2014<br />11:00am to 11:30am<br /></strong>Broadway from Van Dam Street to Spring Street</span></p>\n</td>\n<td valign="top" width="50%"><span style="font-size: small\; font-family: Trebuchet MS\; color: #333333\;">Our July 4th events open with the All-American Parade marching down Broadway from Van Dam Street to Spring Street.&nbsp\; The parade\, led by the Korean War Veterans Color Guard\, includes historical re-enactors\, civic groups and City leaders\, municipalities from all across Saratoga County\, music\, fun\, and more!&nbsp\; Be sure to see the dozens of adorable </span><strong><span style="font-size: small\; font-family: Trebuchet MS\; color: #0000b2\;">Patriotic Pooches</span></strong><span style="font-size: small\; font-family: Trebuchet MS\; color: #333333\;"> that march in the parade every year thanks to our friends at <a href="http://www.sloppykissesofsaratoga.com/" target="_blank">www.SloppyKissesofSaratoga.com</a>&nbsp\;</span></td>\n</tr>\n<tr>\n<td colspan="2" valign="middle" width="100%" height="20"><hr /></td>\n</tr>\n<tr>\n<td valign="top" width="50%"><strong><span style="font-size: small\; font-family: Trebuchet MS\; color: #0000b2\;">Family Day in Congress Park</span></strong>\n<p><span style="font-size: small\; font-family: Trebuchet MS\; color: #333333\;"><strong>Friday\, July 4\, 2014<br />11:00am to 3:00pm<br /></strong>Congress Park</span></p>\n</td>\n<td valign="top" width="50%"><span style="font-size: small\; font-family: Trebuchet MS\; color: #333333\;">Our great friends at the <a href="http://www.saratogahistory.org/" target="_blank">Saratoga Spring History Museum</a> sponsor Family Day in Congress Park with live re-enactors\, historic kids games\, face painting\, carousel rides\, live music\, food\, and more!</span></td>\n</tr>\n<tr>\n<td colspan="2" valign="middle" width="100%" height="20"><hr /></td>\n</tr>\n<tr>\n<td valign="top" width="50%"><strong><span style="font-size: small\; font-family: Trebuchet MS\; color: #0000b2\;">Parade Characters Family Photo-Op</span></strong>\n<p><span style="font-size: small\; font-family: Trebuchet MS\; color: #333333\;"><strong>Friday\, July 4\, 2014<br />11:30am to 3:00pm<br /></strong>Congress Park at the Carousel</span></p>\n</td>\n<td valign="top" width="50%"><span style="font-size: small\; font-family: Trebuchet MS\; color: #333333\;">Bring the kids to have their pictures taken with the characters from the parade including General Burgoyne\, Ben Franklin and MANY more!</span></td>\n</tr>\n<tr>\n<td colspan="2" valign="middle" width="100%" height="20"><hr /></td>\n</tr>\n<tr>\n<td valign="top" width="50%"><strong><span style="font-size: small\; font-family: Trebuchet MS\; color: #0000b2\;">All-American BBQ &amp\; Dessert Fest</span></strong>\n<p><span style="font-size: small\; font-family: Trebuchet MS\; color: #333333\;"><strong>Friday\, July 4\, 2014<br />11:30am to 3:30pm<br /></strong>Various locations throughout downtown<br />and outside the Holiday Inn</span></p>\n</td>\n<td valign="top" width="50%"><span style="font-size: small\; font-family: Trebuchet MS\; color: #333333\;">The Seventh-Annual All-American BBQ &amp\; Dessert Fest is back and bigger than ever!&nbsp\; With dozens of participating restaurants and organizations\, you'll be able to try some of the best BBQ and dessert that Saratoga Springs has to offer!&nbsp\;&nbsp\;</span>\n<p><span style="font-size: small\; font-family: Trebuchet MS\; color: #333333\;">Each tasting is $1 paid to each participant at their locations.&nbsp\; Most participants are located in and around downtown and more will be set up in the Holiday Inn parking lot.</span></p>\n</td>\n</tr>\n</tbody>\n</table>\n<table style="width: 90%\;" border="0">\n<tbody>\n<tr>\n<td valign="top" width="50%">\n<p><strong><span style="font-size: small\; font-family: Trebuchet MS\; color: #0000b2\;">Al</span></strong><strong><span style="font-size: small\; font-family: Trebuchet MS\; color: #0000b2\;">l-American Classic Car Show</span></strong></p>\n<p><span style="font-size: small\; font-family: Trebuchet MS\; color: #333333\;"><strong>Friday\, July 4\, 2014<br />12noon to 4:00pm<br /></strong>Congress Park Plaza</span></p>\n</td>\n<td valign="top" width="50%"><span style="font-size: small\; font-family: Trebuchet MS\; color: #333333\;">Come see up to 70 beautiful American and exotic classic cars lining Congress Park plaza.&nbsp\;&nbsp\;These pieces of American history are perfectly restored and impressively built.&nbsp\; Enjoy a trip through time and pick your favorites!<br />(<a href="http://www.saratogajuly4th.com/registration/registration_carshow.htm">Register</a> to compete in the Classic Car Show)</span></td>\n</tr>\n<tr>\n<td colspan="2" valign="middle" width="100%" height="20"><hr /></td>\n</tr>\n<tr>\n<td valign="top" width="50%"><strong><span style="font-size: small\; font-family: Trebuchet MS\; color: #0000b2\;">Historic City Tour<br /><em>Congress Park: Statues and Stories</em></span></strong>\n<p><span style="font-size: small\; font-family: Trebuchet MS\; color: #333333\;"><strong>Friday\, July 4\, 2014<br />1:00pm to 2:30pm<br /></strong>Meet at the Congress Spring Pavilion in Congress Park</span></p>\n</td>\n<td valign="top" width="50%"><span style="font-size: small\; font-family: Trebuchet MS\; color: #333333\;">Join Charlie Kuenzel\, Dave Patterson\, and Bob Baker as they guide </span><span style="font-size: small\; font-family: Trebuchet MS\; color: #333333\;">a 90-minute walking tour of the Congress Park area focusing on the memorials\, monuments and statues that adorn the park and help to preserve our city's history.</span></td>\n</tr>\n<tr>\n<td colspan="2" valign="middle" width="100%" height="20"><hr /></td>\n</tr>\n<tr>\n<td valign="top" width="50%"><strong><span style="font-size: small\; font-family: Trebuchet MS\; color: #0000b2\;">Family Time in Saratoga</span></strong>\n<p><span style="font-size: small\; font-family: Trebuchet MS\; color: #333333\;"><strong>Friday\, July 4\, 2014<br />4:00pm to 6:30pm </strong></span></p>\n</td>\n<td valign="top" width="50%">\n<p><span style="font-size: small\; font-family: Trebuchet MS\; color: #333333\;">Round up the troops and visit one of our fine downtown restaurants or bring your picnic to Congress Park leading up to the Party in the Park featuring the Audiostars.</span></p>\n</td>\n</tr>\n<tr>\n<td colspan="2" valign="middle" width="100%" height="20"><hr /></td>\n</tr>\n<tr>\n<td valign="top" width="50%"><strong><span style="font-size: small\; font-family: Trebuchet MS\; color: #0000b2\;">Party in the Park<br /><em>with the Audiostars</em></span></strong>\n<p><span style="font-size: small\; font-family: Trebuchet MS\; color: #333333\;"><strong>Friday\, July 4\, 2014<br />6:30pm to 9:30pm<br /></strong>Congress Park</span></p>\n</td>\n<td valign="top" width="50%"><span style="font-size: small\; font-family: Trebuchet MS\; color: #333333\;">Join us for the biggest Party in the Park to date starting at 6:30pm leading up to the Fireworks at dusk!&nbsp\; This year's Party again features a live concert from our area's hottest band\, <a href="http://www.theaudiostars.com/" target="_blank">THE AUDIOSTARS</a>.&nbsp\; Spread out your blankets and enjoy music\, food\, family\, and 10\,000 of your closest friends celebrating our nation's freedom!&nbsp\;</span></td>\n</tr>\n<tr>\n<td colspan="2" valign="middle" width="100%" height="20"><hr /></td>\n</tr>\n<tr>\n<td valign="top" width="50%"><strong><span style="font-size: small\; font-family: Trebuchet MS\; color: #0000b2\;">Live Reading of the Declaration of Independence</span></strong>\n<p><span style="font-size: small\; font-family: Trebuchet MS\; color: #333333\;"><strong>Friday\, July 4\, 2014<br />9:15pm<br /></strong>Congress Park</span></p>\n</td>\n<td valign="top" width="50%"><span style="font-size: small\; font-family: Trebuchet MS\; color: #333333\;">Experience the patriotic pride of hearing our nation's founding document read aloud over a crowd of thousands echoing through historic Congress Park.&nbsp\; It's a moment you'll never forget.</span></td>\n</tr>\n<tr>\n<td colspan="2" valign="middle" width="100%" height="20"><hr /></td>\n</tr>\n<tr>\n<td valign="top" width="50%"><span style="font-size: small\; font-family: Trebuchet MS\; color: #0000b2\;"><strong>Fireworks w/ Patriotic Music<br /></strong>Sponsored by<br />Saratoga Casino &amp\; Raceway</span>\n<p><span style="font-size: small\; font-family: Trebuchet MS\; color: #333333\;"><strong>Friday\, July 4\, 2014<br />9:30pm<br /></strong>Congress Park</span></p>\n</td>\n<td valign="top" width="50%"><span style="font-size: small\; font-family: Trebuchet MS\; color: #333333\;">Our friends at <a href="http://www.fireworksbyalonzo.com/" target="_blank">Alonzo Fireworks</a> bring you another incredible fireworks display up close and personal in Congress Park sponsored by the huge support of <a href="http://www.saratogacasino.com/" target="_blank">Saratoga Casino and Raceway</a>!&nbsp\; Set to patriotic music thanks to our friends at <a href="http://www.saratogaguitar.com/" target="_blank">Saratoga Guitar</a> and <a href="http://www.1013thejockey.com/" target="_blank">The Jockey 101.3 FM</a>.</span></td>\n</tr>\n</tbody>\n</table>
LOCATION:Downtown Saratoga Springs
UID:e.2254.1592
SEQUENCE:3
DTSTAMP:20260424T160530Z
URL:http://saratogatourism-gzcms.preview.gochambermaster.com/events/details/saratoga-s-all-american-celebration-07-03-2014-07-03-2014-1592
END:VEVENT

END:VCALENDAR
