BEGIN:VCALENDAR
VERSION:2.0
PRODID:-//ChamberMaster//Event Calendar 2.0//EN
METHOD:PUBLISH
X-PUBLISHED-TTL:P3D
REFRESH-INTERVAL:P3D
CALSCALE:GREGORIAN
BEGIN:VEVENT
DTSTART:20150227T220000Z
DTEND:20150228T020000Z
X-MICROSOFT-CDO-ALLDAYEVENT:FALSE
SUMMARY:Saratoga Home and Lifestyle Show 2015
DESCRIPTION:Over 130 exhibitors offering diverse products for inside and outside the home.\nAttendees will enjoy over 130 exhibitors offering diverse products for inside and outside the home. There will be informative seminars on Saturday and Sunday\, balloons for the children and a chance to win numerous door prizes and a grand prize 40-inch flat panel digital television. Proceeds will benefit the Saratoga Springs Rotary Club's local donations\, major gift and scholarship programs.
X-ALT-DESC;FMTTYPE=text/html:<p>Over 130&nbsp\;exhibitors offering diverse products for inside and outside the home.</p>\nAttendees will enjoy over 130 exhibitors offering diverse products for inside and outside the home. There will be informative seminars on Saturday and Sunday\, balloons for the children and a chance to win numerous door prizes and a grand prize 40-inch flat panel digital television. Proceeds will benefit the Saratoga Springs Rotary Club&#39\;s local donations\, major gift and scholarship programs.
LOCATION:Saratoga Springs City Center
UID:e.2254.4016
SEQUENCE:3
DTSTAMP:20260423T225530Z
URL:http://saratogatourism-gzcms.preview.gochambermaster.com/events/details/saratoga-home-and-lifestyle-show-2015-02-27-2015-4016
END:VEVENT

END:VCALENDAR
