BEGIN:VCALENDAR
VERSION:2.0
PRODID:-//ChamberMaster//Event Calendar 2.0//EN
METHOD:PUBLISH
X-PUBLISHED-TTL:P3D
REFRESH-INTERVAL:P3D
CALSCALE:GREGORIAN
BEGIN:VEVENT
DTSTART:20170427T220000Z
DTEND:20170428T010000Z
X-MICROSOFT-CDO-ALLDAYEVENT:FALSE
SUMMARY:Saratoga Good Scout Award Dinner
DESCRIPTION:In recognition of Frank Parillo and Larry Gordon for their outstanding community service and demonstration of the Scouting values of character\, leadership\, and service\, the 2017 Saratoga Good Scout Award will be presented to them at a dinner on April 27\, 2017 at the Saratoga Springs City Center. We are honored to recognize Frank and Larry at this event. Four sponsorship levels have been established which include dinner reservations and a Norman Rockwell print. In addition to our sponsors\, individuals who join us as part of our Honorary Committee will receive dinner seats. Sponsors and Honorary Committee members will be listed in the dinner program. Individual dinner seats can also be reserved. This year's event will also include a silent auction. We welcome your contribution to the auction. Proceeds from this event benefit the Saratoga Springs area of the Twin Rivers Council\, which serves over 700 young people through Cub Scout\, Boy Scout\, Venturing and Exploring programs. We hope that you will join us to further our important mission of bringing the benefits of Scouting to the northern half of Saratoga County.
X-ALT-DESC;FMTTYPE=text/html:In recognition of Frank Parillo and Larry Gordon for their outstanding community service and demonstration of the Scouting values of character\, leadership\, and service\, the 2017 Saratoga Good Scout Award will be presented to them at a dinner on April 27\, 2017 at the Saratoga Springs City Center. We are honored to recognize Frank and Larry at this event. Four sponsorship levels have been established which include dinner reservations and a Norman Rockwell print. In addition to our sponsors\, individuals who join us as part of our Honorary Committee will receive dinner seats. Sponsors and Honorary Committee members will be listed in the dinner program. Individual dinner seats can also be reserved. This year&rsquo\;s event will also include a silent auction. We welcome your contribution to the auction. Proceeds from this event benefit the Saratoga Springs area of the Twin Rivers Council\, which serves over 700 young people through Cub Scout\, Boy Scout\, Venturing and Exploring programs. We hope that you will join us to further our important mission of bringing the benefits of Scouting to the northern half of Saratoga County.
LOCATION:Saratoga Springs City Center 522 Broadway Saratoga Springs NY 12866
UID:e.2254.22416
SEQUENCE:3
DTSTAMP:20260420T054435Z
URL:http://saratogatourism-gzcms.preview.gochambermaster.com/events/details/saratoga-good-scout-award-dinner-22416
END:VEVENT

END:VCALENDAR
