BEGIN:VCALENDAR
VERSION:2.0
PRODID:-//ChamberMaster//Event Calendar 2.0//EN
METHOD:PUBLISH
X-PUBLISHED-TTL:P3D
REFRESH-INTERVAL:P3D
CALSCALE:GREGORIAN
BEGIN:VEVENT
DTSTART:20191026T150000Z
DTEND:20191026T200000Z
X-MICROSOFT-CDO-ALLDAYEVENT:FALSE
SUMMARY:Saratoga Fall Festival
DESCRIPTION:Saratoga Springs Downtown Business Association \n\nYou and your family won't want to miss an exciting day of events celebrating our beautiful Autumn! The Fall Festival offers games\, pumpkin rolling races\, pony rides\, a costume parade\, magic shows\, and many more happenings. Best of all\, dozens of stores will be open for trick-or-treating!\n\nSaturday\, October 26\n\n11 am to 4 pm \n\nFREE Family Fun in Downtown Saratoga
X-ALT-DESC;FMTTYPE=text/html:<p align="LEFT"><font size="3">Saratoga Springs Downtown Business Association </font><br />\nYou and your family won&#39\;t want to miss an exciting day of events celebrating our beautiful Autumn! The Fall Festival offers games\, pumpkin rolling races\, pony rides\, a costume parade\, magic shows\, and many more happenings. Best of all\, dozens of stores will be open for trick-or-treating!</p>\n\n<p><span style="font-size: 14px\;"><span style="font-family: arial\;"><span style="font-size: 14px\;"><span style="font-family: arial\;">Saturday\, October&nbsp\;26</span></span></span></span></p>\n\n<p><span style="font-size: 14px\;"><span style="font-family: arial\;">11 am to&nbsp\;4 pm </span></span></p>\n\n<p><span style="font-size: 14px\;"><span style="font-family: arial\;">FREE Family Fun in Downtown Saratoga </span></span></p>\n\n<p>&nbsp\;</p>\n\n<p>&nbsp\;</p>\n
LOCATION:
UID:e.2254.2937
SEQUENCE:3
DTSTAMP:20260419T131254Z
URL:http://saratogatourism-gzcms.preview.gochambermaster.com/events/details/saratoga-fall-festival-10-29-2016-2937
END:VEVENT

END:VCALENDAR
