BEGIN:VCALENDAR
VERSION:2.0
PRODID:-//ChamberMaster//Event Calendar 2.0//EN
METHOD:PUBLISH
X-PUBLISHED-TTL:P3D
REFRESH-INTERVAL:P3D
CALSCALE:GREGORIAN
BEGIN:VEVENT
DTSTART:20170417T183000Z
DTEND:20170417T193000Z
X-MICROSOFT-CDO-ALLDAYEVENT:FALSE
SUMMARY:Saratoga County Honors Deceased Veterans
DESCRIPTION:Saratoga County has honored over 300 Veterans at the monthly Honor Deceased Veterans Ceremony. The ceremony has become a tradition here at Saratoga County\, and includes participation from elected officials at all levels of government\, as well as local Veterans organizations and supporters. This months Honoree is James J. Lant from The Town of Wilton
X-ALT-DESC;FMTTYPE=text/html:Saratoga County has honored over 300 Veterans at the monthly Honor Deceased Veterans Ceremony. The ceremony has become a tradition here at Saratoga County\, and includes participation from elected officials at all levels of government\, as well as local Veterans organizations and supporters. This months Honoree is James J. Lant from The Town of Wilton
LOCATION:40 McMaster Street Ballston Spa\, NY 12020
UID:e.2254.34004
SEQUENCE:3
DTSTAMP:20260420T035055Z
URL:http://saratogatourism-gzcms.preview.gochambermaster.com/events/details/saratoga-county-honors-deceased-veterans-34004
END:VEVENT

END:VCALENDAR
