BEGIN:VCALENDAR
VERSION:2.0
PRODID:-//ChamberMaster//Event Calendar 2.0//EN
METHOD:PUBLISH
X-PUBLISHED-TTL:P3D
REFRESH-INTERVAL:P3D
CALSCALE:GREGORIAN
BEGIN:VEVENT
DTSTART:20170516T184500Z
DTEND:20170516T204500Z
X-MICROSOFT-CDO-ALLDAYEVENT:FALSE
SUMMARY:Sandler Training presents Get Your Sales Back on Track!
DESCRIPTION:The 1st Quarter is "In the Books". \n\nAre You Happy With Your Numbers?\n\n\n	Are you concerned that your sales revenue is lagging behind?\n	Frustrated that you're making million-dollar presentations\, only to have your proposals shopped to your competitors?\n	Angry that you may be getting railroaded by unqualified prospects by leaving your sales calls without getting a firm commitment - either a YES or NO?\n	Worried that\, if you and your staff don't do something about it soon\, you may not hit your goals for the year?\n\n\nIf any of these describe you or your team\, and you're ready to change the direction of your business\, join us for our next Executive Briefing:\n\nGet Your Sales Back on Track!\n\nGet exclusive Sandler Selling Tips that you can begin implementing right away.
X-ALT-DESC;FMTTYPE=text/html:<p style="text-align: center\;"><span style="font-size: 28px\;"><span style="font-family: arial black\;">The 1st Quarter&nbsp\;is &quot\;In the Books&quot\;.&nbsp\;</span><br />\n<span style="font-family: arial black\;">Are You Happy With Your Numbers?</span></span></p>\n\n<ul>\n	<li><span style="font-family: arial\; font-size: 12pt\;">Are you concerned that your&nbsp\;<em><strong>sales revenue is lagging behind</strong></em>?</span></li>\n	<li><span style="font-family: arial\; font-size: 12pt\;">Frustrated that you&#39\;re making million-dollar presentations\, only to have your proposals&nbsp\;<em><strong>shopped to your competitors</strong></em>?</span></li>\n	<li><span style="font-family: arial\; font-size: 12pt\;">Angry that you may be getting railroaded by unqualified prospects by leaving your sales calls&nbsp\;<em><strong>without getting a firm commitment</strong>&nbsp\;</em>- either a YES or NO?</span></li>\n	<li><span style="font-family: arial\; font-size: 12pt\;">Worried that\, if you and your staff don&#39\;t do something about it soon\,&nbsp\;<em><strong>you may not hit your goals for the year</strong></em>?</span></li>\n</ul>\n\n<p style="text-align: center\;"><span style="font-family: arial\; font-size: 12pt\;">If any of these describe you or your team\, and you&#39\;re ready to change the direction of your business\, join us for our next Executive Briefing:</span></p>\n\n<p style="text-align: center\;"><span style="font-size: 18pt\;"><strong><span style="font-family: arial\;">Get Your Sales Back on Track!</span></strong></span></p>\n\n<p style="text-align: center\;"><span style="font-family: arial\; font-size: 12pt\;">Get exclusive Sandler Selling Tips that you can begin implementing right away.</span></p>\n
LOCATION:Sandler Training 13 Columbia Circle\, Suite 104 Albany\, NY
UID:e.2254.23425
SEQUENCE:3
DTSTAMP:20260419T225213Z
URL:http://saratogatourism-gzcms.preview.gochambermaster.com/events/details/sandler-training-presents-get-your-sales-back-on-track-23425
END:VEVENT

END:VCALENDAR
