BEGIN:VCALENDAR
VERSION:2.0
PRODID:-//ChamberMaster//Event Calendar 2.0//EN
METHOD:PUBLISH
X-PUBLISHED-TTL:P3D
REFRESH-INTERVAL:P3D
CALSCALE:GREGORIAN
BEGIN:VEVENT
DTSTART:20150428T143000Z
DTEND:20150428T160000Z
X-MICROSOFT-CDO-ALLDAYEVENT:FALSE
SUMMARY:Salamander Search
DESCRIPTION:Join us for a hike where we will search for salamanders. We will learn about the different types of salamanders found in Spa Park\, their lifecycles\, and other interesting facts about these amphibians. This is a free program\, but registration is required. Please call 518-584-2000 Ext. 150 to register.
X-ALT-DESC;FMTTYPE=text/html:Join us for a hike where we will search for salamanders. We will learn about the different types of salamanders found in Spa Park\, their lifecycles\, and other interesting facts about these amphibians. This is a free program\, but registration is required. Please call 518-584-2000 Ext. 150 to register.
LOCATION:Saratoga Spa State Park
UID:e.2254.7694
SEQUENCE:3
DTSTAMP:20260423T181756Z
URL:http://saratogatourism-gzcms.preview.gochambermaster.com/events/details/salamander-search-04-28-2015-7694
END:VEVENT

END:VCALENDAR
