BEGIN:VCALENDAR
VERSION:2.0
PRODID:-//ChamberMaster//Event Calendar 2.0//EN
METHOD:PUBLISH
X-PUBLISHED-TTL:P3D
REFRESH-INTERVAL:P3D
CALSCALE:GREGORIAN
BEGIN:VEVENT
DTSTART:20160521T130000Z
DTEND:20160521T160000Z
X-MICROSOFT-CDO-ALLDAYEVENT:FALSE
SUMMARY:Ryan's Run
DESCRIPTION:Ryan's Run is a 5K walk or run that will be held Saturday\, May 21st\, at the Warming Hut\, the Saratoga Spa State Park\, at 9:00 a.m. The Ryan Wersten MIOP Foundation was created in memory of Ryan Wersten who lived for only six months after being diagnosed with Malignant Infantile Osteopetrosis (MIOP). \n\n\n\nMore details and to register: https://www.zippyreg.com/online_reg/registration.php?eventID=513\n\n\n\nInformation about Ryan Wersten MIOP Foundation: http://curemiop.org/
X-ALT-DESC;FMTTYPE=text/html:Ryan&#39\;s Run is a 5K walk or run that will be held Saturday\, May 21st\, at the Warming Hut\, the Saratoga Spa State Park\, at 9:00 a.m.&nbsp\;The Ryan Wersten MIOP Foundation was created in memory of Ryan Wersten who lived for only six months after being diagnosed with Malignant Infantile Osteopetrosis (MIOP).&nbsp\;<br />\n<br />\nMore details and to register:&nbsp\;<a href="https://www.zippyreg.com/online_reg/registration.php?eventID=513"><font color="#0066cc">https://www.zippyreg.com/online_reg/registration.php?eventID=513</font></a><br />\n<br />\nInformation about Ryan Wersten MIOP Foundation:&nbsp\;<a href="http://curemiop.org/"><font color="#0066cc">http://curemiop.org/</font></a>
LOCATION:The Warming Hut\, the Saratoga Spa State Park
UID:e.2254.7861
SEQUENCE:3
DTSTAMP:20260421T195431Z
URL:http://saratogatourism-gzcms.preview.gochambermaster.com/events/details/ryan-s-run-05-21-2016-7861
END:VEVENT

END:VCALENDAR
