BEGIN:VCALENDAR
VERSION:2.0
PRODID:-//ChamberMaster//Event Calendar 2.0//EN
METHOD:PUBLISH
X-PUBLISHED-TTL:P3D
REFRESH-INTERVAL:P3D
CALSCALE:GREGORIAN
BEGIN:VEVENT
DTSTART:20161201T210000Z
DTEND:20161202T010000Z
X-MICROSOFT-CDO-ALLDAYEVENT:FALSE
SUMMARY:Round Lake Artisans Holiday Market
DESCRIPTION:Stop by the Victorian Village of Round Lake for some holiday cheer\, buy some presents\, eat some sweet treats provided by Leah's Cakery and support some local artists. Shopping Local and Handmade is made easy with our eclectic collection of gifts including pottery\, paintings\, fiber art\, cards\, knitting\, jewelry\, blacksmithing\, honey\, candles and more! Check our facebook page frequently to see all the amazing creations that the artists have been working on for the show.
X-ALT-DESC;FMTTYPE=text/html:Stop by the Victorian Village of Round Lake for some holiday cheer\, buy some presents\, eat some sweet treats provided by Leah&rsquo\;s Cakery and support some local artists. Shopping Local and Handmade is made easy with our eclectic collection of gifts including pottery\, paintings\, fiber art\, cards\, knitting\, jewelry\, blacksmithing\, honey\, candles and more! Check our facebook page frequently to see all the amazing creations that the artists have been working on for the show.
LOCATION:Round Lake Village Hall 49 Burlington Ave\, Round Lake NY 12151-0085
UID:e.2254.21201
SEQUENCE:3
DTSTAMP:20260420T171111Z
URL:http://saratogatourism-gzcms.preview.gochambermaster.com/events/details/round-lake-artisans-holiday-market-21201
END:VEVENT

END:VCALENDAR
