BEGIN:VCALENDAR
VERSION:2.0
PRODID:-//ChamberMaster//Event Calendar 2.0//EN
METHOD:PUBLISH
X-PUBLISHED-TTL:P3D
REFRESH-INTERVAL:P3D
CALSCALE:GREGORIAN
BEGIN:VEVENT
DTSTART:20160801T213000Z
DTEND:20160802T030000Z
X-MICROSOFT-CDO-ALLDAYEVENT:FALSE
SUMMARY:Riders Up! Saratoga Jockeys Karaoke Contest
DESCRIPTION:RIDERS UP! Saratoga Jockey Karaoke Contest! When: August 1\, 2016 Where: Vapor Night Club Time: 5:30pm till 11:00pm Tickets will go on sale in early June. Prices: General Admission: $75 VIP: $150 (Includes early entry fee\, Buffet\, Spend time with the Saratoga Jockeys until they go on.)
X-ALT-DESC;FMTTYPE=text/html:RIDERS UP! Saratoga Jockey Karaoke Contest! When: August 1\, 2016 Where: Vapor Night Club Time: 5:30pm till 11:00pm Tickets will go on sale in early June. Prices: General Admission: $75 VIP: $150 (Includes early entry fee\, Buffet\, Spend time with the Saratoga Jockeys until they go on.)
LOCATION:Vapor Night Club
UID:e.2254.15230
SEQUENCE:3
DTSTAMP:20260421T003558Z
URL:http://saratogatourism-gzcms.preview.gochambermaster.com/events/details/riders-up-saratoga-jockeys-karaoke-contest-08-01-2016-15230
END:VEVENT

END:VCALENDAR
