BEGIN:VCALENDAR
VERSION:2.0
PRODID:-//ChamberMaster//Event Calendar 2.0//EN
METHOD:PUBLISH
X-PUBLISHED-TTL:P3D
REFRESH-INTERVAL:P3D
CALSCALE:GREGORIAN
BEGIN:VEVENT
DTSTART:20160108T203000Z
DTEND:20160109T020000Z
X-MICROSOFT-CDO-ALLDAYEVENT:FALSE
SUMMARY:Ribbon Cutting for Spa City Trifecta at The Pink Store
DESCRIPTION:Ribbon cutting ceremony and sampling of our slow smoked pulled pork sliders\, comfort sides\, and salads. Meet Humphrey\, our outdoor charcoal smoker and enter to win great door prizes. Food and drink specials starting at 4:30pm.
X-ALT-DESC;FMTTYPE=text/html:Ribbon cutting ceremony and sampling of our slow smoked pulled pork sliders\, comfort sides\, and salads. Meet Humphrey\, our outdoor charcoal smoker and enter to win great door prizes. Food and drink specials starting at 4:30pm.
LOCATION:Spa City Trifecta 119 Clinton Street Saratoga Springs
UID:e.2254.13537
SEQUENCE:3
DTSTAMP:20260422T074205Z
URL:http://saratogatourism-gzcms.preview.gochambermaster.com/events/details/ribbon-cutting-for-spa-city-trifecta-at-the-pink-store-01-08-2016-13537
END:VEVENT

END:VCALENDAR
