BEGIN:VCALENDAR
VERSION:2.0
PRODID:-//ChamberMaster//Event Calendar 2.0//EN
METHOD:PUBLISH
X-PUBLISHED-TTL:P3D
REFRESH-INTERVAL:P3D
CALSCALE:GREGORIAN
BEGIN:VEVENT
DTSTART:20150725T170000Z
DTEND:20150725T180000Z
X-MICROSOFT-CDO-ALLDAYEVENT:FALSE
SUMMARY:Remembrance Day
DESCRIPTION:130 years ago\, at age 63\, Ulysses S. Grant finally bowed to the only enemy who could defeat him\, cancer. It has become a tradition at Grant Cottage to mark this sad occasion by recreating the Grant family circle and allowing those who loved him most to speak about Grant the husband\, father and grandfather. Re-enactors portraying General Grant's family and closest friends will gather on the Cottage porch to bid the man they adored a final\, very personal farewell. The ceremony will include music and\, while acknowledging sorrow\, will be a true celebration of U.S. Grant's truly extraordinary life.
X-ALT-DESC;FMTTYPE=text/html:130 years ago\, at age 63\, Ulysses S. Grant finally bowed to the only enemy who could defeat him\, cancer. It has become a tradition at Grant Cottage to mark this sad occasion by recreating the Grant family circle and allowing those who loved him most to speak about Grant the husband\, father and grandfather. Re-enactors portraying General Grant&#39\;s family and closest friends will gather on the Cottage porch to bid the man they adored a final\, very personal farewell. The ceremony will include music and\, while acknowledging sorrow\, will be a true celebration of U.S. Grant&#39\;s truly extraordinary life.
LOCATION:Grant Cottage State Historic Site Wilton\, NY
UID:e.2254.5473
SEQUENCE:3
DTSTAMP:20260423T033536Z
URL:http://saratogatourism-gzcms.preview.gochambermaster.com/events/details/remembrance-day-07-25-2015-5473
END:VEVENT

END:VCALENDAR
