BEGIN:VCALENDAR
VERSION:2.0
PRODID:-//ChamberMaster//Event Calendar 2.0//EN
METHOD:PUBLISH
X-PUBLISHED-TTL:P3D
REFRESH-INTERVAL:P3D
CALSCALE:GREGORIAN
BEGIN:VEVENT
DTSTART:20150923T213000Z
DTEND:20150923T223000Z
X-MICROSOFT-CDO-ALLDAYEVENT:FALSE
SUMMARY:Rediscover Your Abs!
DESCRIPTION:Have you been considering a Tummy Tuck but not sure what to expect?\n\n\n\nDr. Alain Polynice\n\nOur Breast and Body Specialist\n\n&\n\nBoard Certified Plastic Surgeon\n\n\n\nwill answer all of your questions while going\n\nover the entire procedure on \n\n\n\nSeptember 23rd\, 2015\n\nCocktail reception begins at 5:30pm.\n\n\n\n\n\nRSVP: 518-786-7000. Seats are limited.
X-ALT-DESC;FMTTYPE=text/html:<h2 style="text-align: center\; font-style: italic\;"><span style="font-family: arial\,helvetica\,sans-serif\;"><span style="font-size: 28px\;"><strong><span style="color: rgb(0\, 0\, 0)\;">Have you been considering a Tummy&nbsp\;Tuck but not sure what to expect?</span></strong></span></span><br />\n<br />\n<span style="color: rgb(0\, 0\, 0)\;"><span style="font-size: 36px\;">Dr. Alain Polynice<br />\nOur Breast and Body Specialist<br />\n&amp\;</span></span><br />\n<span style="font-family: arial\,helvetica\,sans-serif\;"><span style="font-size: 28px\;"><span style="font-size: 36px\;"><span style="color: rgb(0\, 0\, 0)\;">Board Certified Plastic Surgeon</span></span><br />\n<br />\n<strong><span style="color: rgb(0\, 0\, 0)\;">will answer all of your questions while going<br />\nover the entire procedure on </span><br />\n<br />\n<span style="font-size: 36px\;"><span style="color: rgb(178\, 34\, 34)\;">September 23rd\, 2015</span></span><br />\n<span style="color: rgb(0\, 0\, 0)\;">Cocktail reception begins at 5:30pm.<br />\n<br />\n<br />\nRSVP: 518-786-7000. Seats are limited.</span></strong></span></span></h2>\n
LOCATION:
UID:e.2254.11276
SEQUENCE:3
DTSTAMP:20260422T235327Z
URL:http://saratogatourism-gzcms.preview.gochambermaster.com/events/details/rediscover-your-abs-09-23-2015-11276
END:VEVENT

END:VCALENDAR
