BEGIN:VCALENDAR
VERSION:2.0
PRODID:-//ChamberMaster//Event Calendar 2.0//EN
METHOD:PUBLISH
X-PUBLISHED-TTL:P3D
REFRESH-INTERVAL:P3D
CALSCALE:GREGORIAN
BEGIN:VEVENT
DTSTART:20170318T140000Z
DTEND:20170318T150000Z
X-MICROSOFT-CDO-ALLDAYEVENT:FALSE
SUMMARY:Puppet Show!
DESCRIPTION:The Puppet Show offers to our young audience an assortment of fun and educational performances. Of course\, kids love these fun and magical creations more than anyone\, and Genius Plaza is home to a puppet theater dedicated to serving the kid set. We will entertain our children once a month\, check event calendar for dates. The show combines a delightful mix of zany puppetry and live interaction that is enjoyed by all. This puppet production is especially engaging and interactive! It's a great show for pre-school age children but all children are welcome to attend. Have a good time at our not-so-scary Halloween puppet show!
X-ALT-DESC;FMTTYPE=text/html:The Puppet Show offers to our young audience an assortment of fun and educational performances. Of course\, kids love these fun and magical creations more than anyone\, and Genius Plaza is home to a puppet theater dedicated to serving the kid set. We will entertain our children once a month\, check event calendar for dates. The show combines a delightful mix of zany puppetry and live interaction that is enjoyed by all. This puppet production is especially engaging and interactive! It&rsquo\;s a great show for pre-school age children but all children are welcome to attend. Have a good time at our not-so-scary Halloween puppet show!
LOCATION:Genius Plaza - 509 Moe Road\, Clifton Park\, NY 12065
UID:e.2254.23027
SEQUENCE:3
DTSTAMP:20260420T051907Z
URL:http://saratogatourism-gzcms.preview.gochambermaster.com/events/details/puppet-show-23027
END:VEVENT

END:VCALENDAR
