BEGIN:VCALENDAR
VERSION:2.0
PRODID:-//ChamberMaster//Event Calendar 2.0//EN
METHOD:PUBLISH
X-PUBLISHED-TTL:P3D
REFRESH-INTERVAL:P3D
CALSCALE:GREGORIAN
BEGIN:VEVENT
DTSTART:20150508T230000Z
DTEND:20150509T020000Z
X-MICROSOFT-CDO-ALLDAYEVENT:FALSE
SUMMARY:Proctors Theater in Schenectady\, NY Presents: Rapunzel
DESCRIPTION:Proctors Theater in Schenectady\, NY presents: Rapunzel\, Friday\, May 8\, 2015 at 7:00 pm Tickets: $20 - $10 kids 17 & under Box Office: (518) 346-6204 On-line: www.proctors.org
X-ALT-DESC;FMTTYPE=text/html:Proctors Theater in Schenectady\, NY presents: Rapunzel\, Friday\, May 8\, 2015 at 7:00 pm Tickets: $20 - $10 kids 17 &amp\; under Box Office: (518) 346-6204 On-line: www.proctors.org
LOCATION:Proctors Theater 432 State Street Schenectady\, New York 12305
UID:e.2254.4965
SEQUENCE:3
DTSTAMP:20260423T165640Z
URL:http://saratogatourism-gzcms.preview.gochambermaster.com/events/details/proctors-theater-in-schenectady-ny-presents-rapunzel-05-08-2015-4965
END:VEVENT

END:VCALENDAR
