BEGIN:VCALENDAR
VERSION:2.0
PRODID:-//ChamberMaster//Event Calendar 2.0//EN
METHOD:PUBLISH
X-PUBLISHED-TTL:P3D
REFRESH-INTERVAL:P3D
CALSCALE:GREGORIAN
BEGIN:VEVENT
DTSTART:20150422T233000Z
DTEND:20150423T020000Z
X-MICROSOFT-CDO-ALLDAYEVENT:FALSE
SUMMARY:Proctors Theater in Schenectady\, NY Presents: Paul Anka
DESCRIPTION:Proctors Theater in Schenectady\, NY Presents: Paul Anka\, Wednesday April 22\, 2015 at 7:30 p.m.  Proctors Theater 432 State Street Schenectady\, New York 12305
X-ALT-DESC;FMTTYPE=text/html:Proctors Theater in Schenectady\, NY Presents: Paul Anka\, Wednesday April 22\, 2015 at 7:30 p.m. &nbsp\;Proctors Theater 432 State Street Schenectady\, New York 12305
LOCATION:Proctors Theater 432 State Street Schenectady\, New York 12305
UID:e.2254.6159
SEQUENCE:3
DTSTAMP:20260423T201229Z
URL:http://saratogatourism-gzcms.preview.gochambermaster.com/events/details/proctors-theater-in-schenectady-ny-presents-paul-anka-04-22-2015-6159
END:VEVENT

END:VCALENDAR
