BEGIN:VCALENDAR
VERSION:2.0
PRODID:-//ChamberMaster//Event Calendar 2.0//EN
METHOD:PUBLISH
X-PUBLISHED-TTL:P3D
REFRESH-INTERVAL:P3D
CALSCALE:GREGORIAN
BEGIN:VEVENT
DTSTART:20151213T173000Z
DTEND:20151213T200000Z
X-MICROSOFT-CDO-ALLDAYEVENT:FALSE
SUMMARY:Playdate to benefit The Estherville Animal Shelter
DESCRIPTION:The Estherville Animal Shelter is a No-Kill shelter that provides homes for all kinds of displaced animals - cats\, dogs\, horses\, sheep\, and goats! This winter they need our help. On Sunday\, the 13th\, stop by the Museum\, and bring in your gently used blankets\, sheets\, bedding\, towels\, and any cleaning supplies\, in exchange for FREE play time at the Museum! Donations of items as well as monetary donations are always accepted and very appreciated!
X-ALT-DESC;FMTTYPE=text/html:The Estherville Animal Shelter is a No-Kill shelter that provides homes for all kinds of displaced animals - cats\, dogs\, horses\, sheep\, and goats! This winter they need our help. On Sunday\, the 13th\, stop by the Museum\, and bring in your gently used blankets\, sheets\, bedding\, towels\, and any cleaning supplies\, in exchange for FREE play time at the Museum! Donations of items as well as monetary donations are always accepted and very appreciated!
LOCATION:The Children's Museum at Saratoga 69 Caroline Street Saratoga Springs\, NY 12866
UID:e.2254.13160
SEQUENCE:3
DTSTAMP:20260422T074226Z
URL:http://saratogatourism-gzcms.preview.gochambermaster.com/events/details/playdate-to-benefit-the-estherville-animal-shelter-12-13-2015-13160
END:VEVENT

END:VCALENDAR
