BEGIN:VCALENDAR
VERSION:2.0
PRODID:-//ChamberMaster//Event Calendar 2.0//EN
METHOD:PUBLISH
X-PUBLISHED-TTL:P3D
REFRESH-INTERVAL:P3D
CALSCALE:GREGORIAN
BEGIN:VEVENT
DTSTART:20161214T000000Z
DTEND:20161214T020000Z
X-MICROSOFT-CDO-ALLDAYEVENT:FALSE
SUMMARY:Plant and Sip
DESCRIPTION:
X-ALT-DESC;FMTTYPE=text/html:
LOCATION:Brookside Nursery 824 State Route 67 Ballston Spa Ny 12020
UID:e.2254.21432
SEQUENCE:3
DTSTAMP:20260420T170247Z
URL:http://saratogatourism-gzcms.preview.gochambermaster.com/events/details/plant-and-sip-21432
END:VEVENT

END:VCALENDAR
