BEGIN:VCALENDAR
VERSION:2.0
PRODID:-//ChamberMaster//Event Calendar 2.0//EN
METHOD:PUBLISH
X-PUBLISHED-TTL:P3D
REFRESH-INTERVAL:P3D
CALSCALE:GREGORIAN
BEGIN:VEVENT
DTSTART:20160625T010000Z
DTEND:20160625T023000Z
X-MICROSOFT-CDO-ALLDAYEVENT:FALSE
SUMMARY:Pints & Punchlines
DESCRIPTION:Every month we bring some of the best comedians NYC has to offer to the heart of Saratoga Springs. This month's lineup features Steve Loftus (Yonkers Comedy Festival)\, Drew Morgan (Well Red Comedy Tour)\, John Saponaro (Laughfest) & Joe Pontillo (Hank Is Evil).
X-ALT-DESC;FMTTYPE=text/html:Every month we bring some of the best comedians NYC has to offer to the heart of Saratoga Springs. This month&rsquo\;s lineup features Steve Loftus (Yonkers Comedy Festival)\, Drew Morgan (Well Red Comedy Tour)\, John Saponaro (Laughfest) &amp\; Joe Pontillo (Hank Is Evil).
LOCATION:Parting Glass Pub 40 Lake Avenue Saratoga Springs\, NY 12866
UID:e.2254.17017
SEQUENCE:3
DTSTAMP:20260421T195401Z
URL:http://saratogatourism-gzcms.preview.gochambermaster.com/events/details/pints-punchlines-06-24-2016-17017
END:VEVENT

END:VCALENDAR
