BEGIN:VCALENDAR
VERSION:2.0
PRODID:-//ChamberMaster//Event Calendar 2.0//EN
METHOD:PUBLISH
X-PUBLISHED-TTL:P3D
REFRESH-INTERVAL:P3D
CALSCALE:GREGORIAN
BEGIN:VEVENT
DTSTART:20170207T143000Z
DTEND:20170303T151500Z
X-MICROSOFT-CDO-ALLDAYEVENT:FALSE
SUMMARY:Pilates for Progression - Session 1
DESCRIPTION:"In 10 sessions you will feel a difference\, in 20 you will see a difference and in 30 you'll have a new body." Joe Pilates\n\n\n\nLead by a Romana's Pilates Certified Instructor\, this 4-week series will introduce you to the Pilates method and elevate your body to a new level of fitness. The first class might leave you scratching your head\, but by the last class you will leave stronger\, longer and looking for more! We will track your progress with assessments and prepare you to advance your Pilates practice.These are the first 12 classes of a 3-part series\, no previous Pilates experience is necessary.
X-ALT-DESC;FMTTYPE=text/html:&quot\;In 10 sessions you will feel a difference\, in 20 you will see a difference and in 30 you&#39\;ll have a new body.&quot\; Joe Pilates<br />\n<br />\nLead by a Romana&#39\;s Pilates Certified Instructor\, this 4-week series will introduce you to the Pilates method and elevate your body to a new level of fitness. The first class might leave you scratching your head\, but by the last class you will leave stronger\, longer and looking for more! We will track your progress with assessments and prepare you to advance your Pilates practice.These are the first 12 classes of a 3-part series\, no previous Pilates experience is necessary.
LOCATION:RAW Space\, 80 Henry Street\, Saratoga Springs\, NY
UID:e.2254.22448
SEQUENCE:3
DTSTAMP:20260420T034743Z
URL:http://saratogatourism-gzcms.preview.gochambermaster.com/events/details/pilates-for-progression-session-1-02-07-2017-22448
END:VEVENT

END:VCALENDAR
