BEGIN:VCALENDAR
VERSION:2.0
PRODID:-//ChamberMaster//Event Calendar 2.0//EN
METHOD:PUBLISH
X-PUBLISHED-TTL:P3D
REFRESH-INTERVAL:P3D
CALSCALE:GREGORIAN
BEGIN:VEVENT
DTSTART:20150613T150000Z
DTEND:20150613T160000Z
X-MICROSOFT-CDO-ALLDAYEVENT:FALSE
SUMMARY:Pilates For After The Fire
DESCRIPTION:This is a 50 Minute Pilates Mat Class suitable for all levels. There is no fee for the class. Donations will be accepted for a different non-profit organization each week. 100% of the donations will be given to the non-profit.
X-ALT-DESC;FMTTYPE=text/html:This is a 50 Minute Pilates Mat Class suitable for all levels. There is no fee for the class. Donations will be accepted for a different non-profit organization each week. 100% of the donations will be given to the non-profit.
LOCATION:Reform. A True Pilates Studio 18 Division St Suite 203 Saratoga Springs\, NY 12866
UID:e.2254.7749
SEQUENCE:3
DTSTAMP:20260423T070415Z
URL:http://saratogatourism-gzcms.preview.gochambermaster.com/events/details/pilates-for-after-the-fire-06-13-2015-7749
END:VEVENT

END:VCALENDAR
