BEGIN:VCALENDAR
VERSION:2.0
PRODID:-//ChamberMaster//Event Calendar 2.0//EN
METHOD:PUBLISH
X-PUBLISHED-TTL:P3D
REFRESH-INTERVAL:P3D
CALSCALE:GREGORIAN
BEGIN:VEVENT
DTSTART:20160703T233000Z
DTEND:20160704T030000Z
X-MICROSOFT-CDO-ALLDAYEVENT:FALSE
SUMMARY:Phish
DESCRIPTION:Phish 2016 Summer Tour
X-ALT-DESC;FMTTYPE=text/html:Phish 2016 Summer Tour
LOCATION:Saratoga Performing Arts Center 108 Avenue of the Pines Saratoga Springs\, NY 12866
UID:e.2254.14854
SEQUENCE:3
DTSTAMP:20260421T043837Z
URL:http://saratogatourism-gzcms.preview.gochambermaster.com/events/details/phish-07-03-2016-14854
END:VEVENT

END:VCALENDAR
