BEGIN:VCALENDAR
VERSION:2.0
PRODID:-//ChamberMaster//Event Calendar 2.0//EN
METHOD:PUBLISH
X-PUBLISHED-TTL:P3D
REFRESH-INTERVAL:P3D
CALSCALE:GREGORIAN
BEGIN:VEVENT
DTSTART:20150422T143000Z
DTEND:20150422T160000Z
X-MICROSOFT-CDO-ALLDAYEVENT:FALSE
SUMMARY:Paper Mache Earth Workshop
DESCRIPTION:Celebrate Earth Day by crafting a Paper Mache Earth out of recycled paper. We will discuss the benefits of recycling and why it is important for the planet. This program is recommended for children ages 10 and under. Registration is required. Fee is $3 per person or $5 per family. Please call 518-584-2000 Ext. 150 to register.
X-ALT-DESC;FMTTYPE=text/html:Celebrate Earth Day by crafting a Paper Mache Earth out of recycled paper. We will discuss the benefits of recycling and why it is important for the planet. This program is recommended for children ages 10 and under. Registration is required. Fee is $3 per person or $5 per family. Please call 518-584-2000 Ext. 150 to register.
LOCATION:
UID:e.2254.7690
SEQUENCE:3
DTSTAMP:20260423T181757Z
URL:http://saratogatourism-gzcms.preview.gochambermaster.com/events/details/paper-mache-earth-workshop-04-22-2015-7690
END:VEVENT

END:VCALENDAR
