BEGIN:VCALENDAR
VERSION:2.0
PRODID:-//ChamberMaster//Event Calendar 2.0//EN
METHOD:PUBLISH
X-PUBLISHED-TTL:P3D
REFRESH-INTERVAL:P3D
CALSCALE:GREGORIAN
BEGIN:VEVENT
DTSTART:20150218T230000Z
DTEND:20150219T013000Z
X-MICROSOFT-CDO-ALLDAYEVENT:FALSE
SUMMARY:Owl Prowl at Camp Saratoga
DESCRIPTION:In collaboration with the Saratoga Springs Public Library\, we will be going out on an early evening "hunt" for local owls.  First\, we will learn about what owls are found in our area with an indoor presentation. Then we will head outdoors to listen and look for wild owls!  Group size is limited and is for ages 5 and up. Pre-registration is required by February 18 by calling the Library at (518) 584-7860 option 3. This program will be offered again on March 11.
X-ALT-DESC;FMTTYPE=text/html:<span style="font-family:cambria\,serif"><span style="font-size:11.0pt">In collaboration with the Saratoga Springs Public Library\, we will be going out on an early evening &ldquo\;hunt&rdquo\; for local owls.&nbsp\; First\, we will learn about what owls are found in our area with an indoor presentation. Then we will head outdoors to listen and look for wild owls!&nbsp\; Group size is limited and is for ages 5 and up. <em>Pre-registration is required by February 18 by calling the Library at (518) 584-7860 option 3.</em> <strong><em>This program will be offered again on March 11.</em> </strong></span></span><br />\n&nbsp\;
LOCATION:Parking Lot #1\, Camp Saratoga North
UID:e.2254.960
SEQUENCE:3
DTSTAMP:20260423T225511Z
URL:http://saratogatourism-gzcms.preview.gochambermaster.com/events/details/owl-prowl-at-camp-saratoga-02-18-2015-960
END:VEVENT

END:VCALENDAR
