BEGIN:VCALENDAR
VERSION:2.0
PRODID:-//ChamberMaster//Event Calendar 2.0//EN
METHOD:PUBLISH
X-PUBLISHED-TTL:P3D
REFRESH-INTERVAL:P3D
CALSCALE:GREGORIAN
BEGIN:VEVENT
DTSTART:20150226T210000Z
DTEND:20150226T233000Z
X-MICROSOFT-CDO-ALLDAYEVENT:FALSE
SUMMARY:Orientation & Mixer - NOW AT THE GIDEON PUTNAM
DESCRIPTION:The Saratoga County Chamber of Commerce will meet for their first Orientation & Mixer of 2015 at the Gideon Putnam in the Arches Room. Kick off 2015 overlooking the beautiful Saratoga State Park while building valuable business relationships that will help achieve your 2015 goals. Immediately before the mixer\, you are invited to the New Member Orientation with Chamber President\, Todd Shimkus\, for a discussion on how you can maximize your Chamber membership investment. Thank you to Adirondack Technical Solutions for\n\nsponsoring this event.\n\n\n\n***Please note that this event had a change of venue. It is now at the Gideon Putnam and NOT at the Saratoga Automobile Museum.***
X-ALT-DESC;FMTTYPE=text/html:The Saratoga County Chamber of Commerce will meet for their first Orientation &amp\; Mixer of 2015 at the Gideon Putnam in the Arches Room. Kick off 2015 overlooking the beautiful Saratoga State Park&nbsp\;while building valuable business relationships that will help achieve your 2015 goals. Immediately before the mixer\, you are invited to the New Member Orientation with Chamber President\, Todd Shimkus\, for a discussion on how you can maximize your Chamber membership investment.&nbsp\;Thank you to Adirondack Technical Solutions for<br />\nsponsoring this event.<br />\n<br />\n***Please note that this event had a change of venue. It is now at the Gideon Putnam and NOT at the Saratoga Automobile Museum.***
LOCATION:Gideon Putnam Arches Room 24 Gideon Putnam Road Saratoga Springs
UID:e.2254.5018
SEQUENCE:3
DTSTAMP:20260423T225511Z
URL:http://saratogatourism-gzcms.preview.gochambermaster.com/events/details/orientation-mixer-now-at-the-gideon-putnam-02-26-2015-5018
END:VEVENT

END:VCALENDAR
