BEGIN:VCALENDAR
VERSION:2.0
PRODID:-//ChamberMaster//Event Calendar 2.0//EN
METHOD:PUBLISH
X-PUBLISHED-TTL:P3D
REFRESH-INTERVAL:P3D
CALSCALE:GREGORIAN
BEGIN:VEVENT
DTSTART:20170604T223000Z
DTEND:20170605T030000Z
X-MICROSOFT-CDO-ALLDAYEVENT:FALSE
SUMMARY:Opera Saratoga Gala - Opera on the Lake
DESCRIPTION:The Opera Saratoga Gala - Opera on the Lake- will take place on June 4. 2017 at 6:30 pm at the Lake George Club. Opera Saratoga returns to its roots on the lake for a music-filled gala to celebrate the beginning of the summer opera season. Save the date  further details to be announced!
X-ALT-DESC;FMTTYPE=text/html:The Opera Saratoga Gala - Opera on the Lake- will take place on&nbsp\;June 4. 2017&nbsp\;at 6:30 pm at the Lake George Club. Opera Saratoga returns to its roots on the lake for a music-filled gala to celebrate the beginning of the summer opera season. Save the date&hellip\; further details to be announced!
LOCATION:The Lake George Club Bolton Road\, Diamond Point
UID:e.2254.8336
SEQUENCE:3
DTSTAMP:20260419T210025Z
URL:http://saratogatourism-gzcms.preview.gochambermaster.com/events/details/opera-saratoga-gala-opera-on-the-lake-8336
END:VEVENT

END:VCALENDAR
