BEGIN:VCALENDAR
VERSION:2.0
PRODID:-//ChamberMaster//Event Calendar 2.0//EN
METHOD:PUBLISH
X-PUBLISHED-TTL:P3D
REFRESH-INTERVAL:P3D
CALSCALE:GREGORIAN
BEGIN:VEVENT
DTSTART:20160611T230000Z
DTEND:20160612T010000Z
X-MICROSOFT-CDO-ALLDAYEVENT:FALSE
SUMMARY:Opera Saratoga at The Hyde
DESCRIPTION:The community is invited to experience an evening of Mozart in this special performance by Opera Saratoga.
X-ALT-DESC;FMTTYPE=text/html:The community is invited to experience an evening of Mozart in this special performance by Opera Saratoga.
LOCATION:The Hyde Collection 161 Warren St.\, Glens Falls\, NY 12801
UID:e.2254.16470
SEQUENCE:3
DTSTAMP:20260421T061901Z
URL:http://saratogatourism-gzcms.preview.gochambermaster.com/events/details/opera-saratoga-at-the-hyde-06-11-2016-16470
END:VEVENT

END:VCALENDAR
