BEGIN:VCALENDAR
VERSION:2.0
PRODID:-//ChamberMaster//Event Calendar 2.0//EN
METHOD:PUBLISH
X-PUBLISHED-TTL:P3D
REFRESH-INTERVAL:P3D
CALSCALE:GREGORIAN
BEGIN:VEVENT
DTSTART:20160427T230000Z
DTEND:20160428T013000Z
X-MICROSOFT-CDO-ALLDAYEVENT:FALSE
SUMMARY:Open Mic Blues & Jam
DESCRIPTION:Please include this notice on your event calendar. Thank you\, Lois Radke 587-3708.  The Acoustic Blues Open Mic & Jam. Wednesday April 27  signup 7:00\; show 7:30 Caf  Lena\, 43 Phila St\, Saratoga Springs\, NY. NYS Blues Hall of Fame inductee Sonny Speed will be hosting the evening for SABS. This month's featured artist is Phil Drum\; could be early Delta Blues\, played on a Kalamazoo KG14 This event is on the 4th Wednesday of every month. Come on down to listen and/or play the Blues! Admission is only $5. One of Saratoga best musical values.
X-ALT-DESC;FMTTYPE=text/html:Please include this notice on your event calendar. Thank you\, Lois Radke 587-3708. &nbsp\;The Acoustic Blues Open Mic &amp\; Jam. Wednesday April 27 &nbsp\;signup 7:00\; show 7:30 Caf&eacute\; Lena\, 43 Phila St\, Saratoga Springs\, NY. NYS Blues Hall of Fame inductee Sonny Speed will be hosting the evening for SABS. This month&#39\;s featured artist is Phil Drum\; could be early Delta Blues\, played on a Kalamazoo KG14 This event is on the 4th Wednesday of every month. Come on down to listen and/or play the Blues! Admission is only $5. One of Saratoga best musical values.
LOCATION:Caf Lena - 43 Phila Street\, Saratoga Springs\, NY
UID:e.2254.16328
SEQUENCE:3
DTSTAMP:20260421T190409Z
URL:http://saratogatourism-gzcms.preview.gochambermaster.com/events/details/open-mic-blues-jam-04-27-2016-16328
END:VEVENT

END:VCALENDAR
