BEGIN:VCALENDAR
VERSION:2.0
PRODID:-//ChamberMaster//Event Calendar 2.0//EN
METHOD:PUBLISH
X-PUBLISHED-TTL:P3D
REFRESH-INTERVAL:P3D
CALSCALE:GREGORIAN
BEGIN:VEVENT
DTSTART:20161110T233000Z
DTEND:20161111T023000Z
X-MICROSOFT-CDO-ALLDAYEVENT:FALSE
SUMMARY:One Bourbon\, One Scotch\, One Beer All Things Smoked Dinner
DESCRIPTION:Chef inspired four-course dinner:\n\nFirst: Tea-smoked Duck Breast paired with Bulleitt Bourbon\n\nSecond: Cedar-smoked Scottish Salmon paired with Talisker Scotch\n\nThird: Bacon-wrapped hickory-smoked Chateaubriand paired with Stone Smoked Porter\n\nFourth: Chestnut-smoked Poached Pear with Caramel Brittle paired with Smoked Old Fashioned
X-ALT-DESC;FMTTYPE=text/html:Chef inspired four-course dinner:<br />\nFirst: Tea-smoked Duck Breast paired with Bulleitt Bourbon<br />\nSecond: Cedar-smoked Scottish Salmon paired with Talisker Scotch<br />\nThird: Bacon-wrapped hickory-smoked Chateaubriand paired with Stone Smoked Porter<br />\nFourth: Chestnut-smoked Poached Pear with Caramel Brittle paired with Smoked Old Fashioned<br />\n&nbsp\;
LOCATION:Olde Bryan Inn
UID:e.2254.20840
SEQUENCE:3
DTSTAMP:20260420T183256Z
URL:http://saratogatourism-gzcms.preview.gochambermaster.com/events/details/one-bourbon-one-scotch-one-beer-all-things-smoked-dinner-20840
END:VEVENT

END:VCALENDAR
