BEGIN:VCALENDAR
VERSION:2.0
PRODID:-//ChamberMaster//Event Calendar 2.0//EN
METHOD:PUBLISH
X-PUBLISHED-TTL:P3D
REFRESH-INTERVAL:P3D
CALSCALE:GREGORIAN
BEGIN:VEVENT
DTSTART:20161019T213000Z
DTEND:20161020T003000Z
X-MICROSOFT-CDO-ALLDAYEVENT:FALSE
SUMMARY:Oktopurrfest!
DESCRIPTION:The Mohawk Hudson Humane Society presents Oktopurrfest on October 19 at Revolution Hall in Troy. Admission includes a signature pint glass plus great German-theme food\, including veg-friendly selections\, pint specials on Brown's Brewing Company's beers\, live German music\, the "Mewnich" Marketplace with items people and their cats will love and more fun surprises.
X-ALT-DESC;FMTTYPE=text/html:The Mohawk Hudson Humane Society presents Oktopurrfest on October 19 at Revolution Hall in Troy. Admission includes a signature pint glass plus great German-theme food\, including veg-friendly selections\, pint specials on Brown&rsquo\;s Brewing Company&rsquo\;s beers\, live German music\, the &ldquo\;Mewnich&rdquo\; Marketplace with items people and their cats will love and more fun surprises.
LOCATION:Brown's Brewing Co.'s Revolution Hall\, 425 River Street\, Troy
UID:e.2254.19694
SEQUENCE:3
DTSTAMP:20260420T211908Z
URL:http://saratogatourism-gzcms.preview.gochambermaster.com/events/details/oktopurrfest-19694
END:VEVENT

END:VCALENDAR
