BEGIN:VCALENDAR
VERSION:2.0
PRODID:-//ChamberMaster//Event Calendar 2.0//EN
METHOD:PUBLISH
X-PUBLISHED-TTL:P3D
REFRESH-INTERVAL:P3D
CALSCALE:GREGORIAN
BEGIN:VEVENT
DTSTART:20160604T120000Z
DTEND:20160604T160000Z
X-MICROSOFT-CDO-ALLDAYEVENT:FALSE
SUMMARY:Oklahome Backstretch Tour Conformation & Gate Clinic
DESCRIPTION:Want an up close and personal look at the 'Behind The Scenes' of horse racing? Do you want to see what goes in to getting these magnificent animals ready for race day?!\n\n\n\nJoin us for our most popular event of the summer\, our Annual Backstretch Tour at the Oklahoma Training Track! The tour will include introductions to legendary trainers and racehorses\, tutorial while watching horses "work" on the track and attend "gate school\," with Bob Duncan! There will also be discussions regarding any and all aspects of thoroughbred ownership\, training\, and racing so come with your questions!\n\n\n\nYou must RSVP for this event. Email us at PGR@PartingGlassRacing.com or give us a call at (518) 587-5550 with the number of people in your group.\n\n\n\nIf you do not currently have credentials\, Tom will be meeting you at the Guard Shack at the Union Ave Oklahoma Track Entrance at 7:30am.\n\n\n\nIf you currently have credentials\, we will be meeting at the 'regular spot' - the pony shack by Bruce Levine's BARN 64 at 7:45am for coffee & donuts.\n\n\n\nThe tour will begin promptly at 8:00am!\n\n\n\nThis event is free and open to the public.
X-ALT-DESC;FMTTYPE=text/html:Want an up close and personal look at the &#39\;Behind The Scenes&#39\; of horse racing? Do you want to see what goes in to getting these magnificent animals ready for race day?!<br />\n<br />\nJoin us for our most popular event of the summer\, our Annual Backstretch Tour at the Oklahoma Training Track! The tour will include introductions to legendary trainers and racehorses\, tutorial while watching horses &ldquo\;work&rdquo\; on the track and attend &ldquo\;gate school\,&rdquo\; with Bob Duncan! There will also be discussions regarding any and all aspects of thoroughbred ownership\, training\, and racing so come with your questions!<br />\n<br />\nYou must RSVP for this event. Email us at PGR@PartingGlassRacing.com or give us a call at (518) 587-5550 with the number of people in your group.<br />\n<br />\nIf you do not currently have credentials\, Tom will be meeting you at the Guard Shack at the Union Ave Oklahoma Track Entrance at 7:30am.<br />\n<br />\nIf you currently have credentials\, we will be meeting at the &#39\;regular spot&#39\; - the pony shack by Bruce Levine&#39\;s BARN 64 at 7:45am for coffee &amp\; donuts.<br />\n<br />\nThe tour will begin promptly at 8:00am!<br />\n<br />\nThis event is free and open to the public.
LOCATION:Oklahoma Training Track
UID:e.2254.16899
SEQUENCE:3
DTSTAMP:20260421T061849Z
URL:http://saratogatourism-gzcms.preview.gochambermaster.com/events/details/oklahome-backstretch-tour-conformation-gate-clinic-06-04-2016-16899
END:VEVENT

END:VCALENDAR
