BEGIN:VCALENDAR
VERSION:2.0
PRODID:-//ChamberMaster//Event Calendar 2.0//EN
METHOD:PUBLISH
X-PUBLISHED-TTL:P3D
REFRESH-INTERVAL:P3D
CALSCALE:GREGORIAN
BEGIN:VEVENT
DTSTART:20160315T210000Z
DTEND:20160316T000000Z
X-MICROSOFT-CDO-ALLDAYEVENT:FALSE
SUMMARY:NYS WBE Showcase
DESCRIPTION:The National Association of Women in Construction of the Capital District Chapter announces their annual WBE Showcase. This opportunity will get WBEs in front of local contractors and State agencies. When the Governor first took office in 2011\, State contracting with MWBEs stood at 10.3 percent. By the end of 2014\, State agencies and authorities were awarding 25.12 percent of all contracts to MWBEs far exceeding the Governor's stated goal of 20 percent. That spending translates into over $1.9 billion in contracts with MWBEs\, the highest of any State in the country. In 2014\, Governor Cuomo increased the statewide goal to 30 percent.   Leading\, again\, the country in increasing opportunities for minority and women-owned businesses. (Sourced NYS WBE Forum Page)
X-ALT-DESC;FMTTYPE=text/html:The National Association of Women in Construction of the Capital District Chapter announces their annual WBE Showcase. This opportunity will get WBEs in front of local contractors and State agencies. When the Governor first took office in 2011\, State contracting with MWBEs stood at 10.3 percent. By the end of 2014\, State agencies and authorities were awarding 25.12 percent of all contracts to MWBEs far exceeding the Governor&#39\;s stated goal of 20 percent. That spending translates into over $1.9 billion in contracts with MWBEs\, the highest of any State in the country. In 2014\, Governor Cuomo increased the statewide goal to 30 percent. &nbsp\; Leading\, again\, the country in increasing opportunities for minority and women-owned businesses. (Sourced NYS WBE Forum Page)
LOCATION:The Century House
UID:e.2254.13618
SEQUENCE:3
DTSTAMP:20260422T014411Z
URL:http://saratogatourism-gzcms.preview.gochambermaster.com/events/details/nys-wbe-showcase-03-15-2016-13618
END:VEVENT

END:VCALENDAR
