BEGIN:VCALENDAR
VERSION:2.0
PRODID:-//ChamberMaster//Event Calendar 2.0//EN
METHOD:PUBLISH
X-PUBLISHED-TTL:P3D
REFRESH-INTERVAL:P3D
CALSCALE:GREGORIAN
BEGIN:VEVENT
DTSTART:20140708T220000Z
DTEND:20140709T000000Z
X-MICROSOFT-CDO-ALLDAYEVENT:FALSE
SUMMARY:NYS Summer Writers Institute: Non-Fiction and Fiction Reading - 07/08/2014
DESCRIPTION:NYS Summer Writers Institute: Non-Fiction and Fiction ReadingBy Phillip Lopate ( Portrait Inside My Head) and Victoria Redel  8 p.m.-Davis Auditorium For more information call 518-580-5593
X-ALT-DESC;FMTTYPE=text/html:<p>NYS Summer Writers Institute: Non-Fiction and Fiction Reading</p><p>By Phillip Lopate ( <em>Portrait Inside My Head</em>) and Victoria Redel </p> <p>8 p.m.-Davis Auditorium</p> <span style="font-size: 12pt\; font-family: Times New Roman\,serif\;">For more information call 518-580-5593</span>
LOCATION:Davis Auditorium\, Skidmore College
UID:e.2254.3376
SEQUENCE:3
DTSTAMP:20260424T160619Z
URL:http://saratogatourism-gzcms.preview.gochambermaster.com/events/details/nys-summer-writers-institute-non-fiction-and-fiction-reading-07-08-2014-07-08-2014-3376
END:VEVENT

END:VCALENDAR
