BEGIN:VCALENDAR
VERSION:2.0
PRODID:-//ChamberMaster//Event Calendar 2.0//EN
METHOD:PUBLISH
X-PUBLISHED-TTL:P3D
REFRESH-INTERVAL:P3D
CALSCALE:GREGORIAN
BEGIN:VEVENT
DTSTART:20140716T220000Z
DTEND:20140717T000000Z
X-MICROSOFT-CDO-ALLDAYEVENT:FALSE
SUMMARY:NYS Summer Writers Institute: Fiction and Non-Fiction Reading - 07/16/2014
DESCRIPTION:NYS Summer Writers Institute: Fiction and Non-Fiction ReadingBy Danzy Senna and Honor Moore (The Bishop's Daughter) 8 p.m.-Davis Auditorium For more information call 518-580-5593
X-ALT-DESC;FMTTYPE=text/html:<p>NYS Summer Writers Institute: Fiction and Non-Fiction Reading</p><p><span>By Danzy Senna and Honor Moore </span>(<em>The Bishop's Daughter</em>)</p> <p>8 p.m.-Davis Auditorium</p> <span style="font-size: 12pt\; font-family: Times New Roman\,serif\;">For more information call 518-580-5593</span>
LOCATION:Davis Auditorium\, Skidmore College
UID:e.2254.3390
SEQUENCE:3
DTSTAMP:20260424T160618Z
URL:http://saratogatourism-gzcms.preview.gochambermaster.com/events/details/nys-summer-writers-institute-fiction-and-non-fiction-reading-07-16-2014-07-16-2014-3390
END:VEVENT

END:VCALENDAR
