BEGIN:VCALENDAR
VERSION:2.0
PRODID:-//ChamberMaster//Event Calendar 2.0//EN
METHOD:PUBLISH
X-PUBLISHED-TTL:P3D
REFRESH-INTERVAL:P3D
CALSCALE:GREGORIAN
BEGIN:VEVENT
DTSTART:20150811T230000Z
DTEND:20150812T010000Z
X-MICROSOFT-CDO-ALLDAYEVENT:FALSE
SUMMARY:NYS Summer School of the Arts: School of Orchestral Studies Concert
DESCRIPTION:The School of Orchestral Studies is the final school hosted by Skidmore College. 95 students selected from statewide auditions reside and study at Skidmore College under the Artistic Direction of Ransom Wilson\, renown flutist and professor of music at Yale University and Purchase College. Students study with members of the Philadelphia Orchestra during their summer residency at SPAC while studying a repertoire which parallels that of the Orchestra.
X-ALT-DESC;FMTTYPE=text/html:The School of Orchestral Studies is the final school hosted by Skidmore College. 95 students selected from statewide auditions reside and study at Skidmore College under the Artistic Direction of Ransom Wilson\, renown flutist and professor of music at Yale University and Purchase College. Students study with members of the Philadelphia Orchestra during their summer residency at SPAC while studying a repertoire which parallels that of the Orchestra.
LOCATION:Arthur Zankel Music Center\, Ladd Hall Skidmore College 815 N Broadway Saratoga Springs\, NY 12866
UID:e.2254.10166
SEQUENCE:3
DTSTAMP:20260423T015239Z
URL:http://saratogatourism-gzcms.preview.gochambermaster.com/events/details/nys-summer-school-of-the-arts-school-of-orchestral-studies-concert-08-11-2015-10166
END:VEVENT

END:VCALENDAR
