BEGIN:VCALENDAR
VERSION:2.0
PRODID:-//ChamberMaster//Event Calendar 2.0//EN
METHOD:PUBLISH
X-PUBLISHED-TTL:P3D
REFRESH-INTERVAL:P3D
CALSCALE:GREGORIAN
BEGIN:VEVENT
DTSTART:20151003T160000Z
DTEND:20151003T210000Z
X-MICROSOFT-CDO-ALLDAYEVENT:FALSE
SUMMARY:NY's #1 Fifty Plus Boomers Expo
DESCRIPTION:
X-ALT-DESC;FMTTYPE=text/html:
LOCATION:Saratoga Springs City Center
UID:e.2254.12320
SEQUENCE:3
DTSTAMP:20260422T145204Z
URL:http://saratogatourism-gzcms.preview.gochambermaster.com/events/details/ny-s-1-fifty-plus-boomers-expo-10-03-2015-12320
END:VEVENT

END:VCALENDAR
