BEGIN:VCALENDAR
VERSION:2.0
PRODID:-//ChamberMaster//Event Calendar 2.0//EN
METHOD:PUBLISH
X-PUBLISHED-TTL:P3D
REFRESH-INTERVAL:P3D
CALSCALE:GREGORIAN
BEGIN:VEVENT
DTSTART:20170513T130000Z
DTEND:20170513T210000Z
X-MICROSOFT-CDO-ALLDAYEVENT:FALSE
SUMMARY:Nuno Patchwork Scarf with Carol Ingram #1082-0625. 1 day.
DESCRIPTION:Create a one of a kind scarf using fabric\, merino wool\, soap and water. There will be a strong emphasis on color and design choices as well as fashioning a well-felted fabric that hangs softly. Learning this nuno technique is a starting point to create clothing\, pillows\, wall hangings and more. Beginners are welcome.\n\n\nNOTE:  This class will take place at the Shirt Factory\, Lawrence & Cooper Streets\, in Glens Falls\, NY. Call AFS for directions. Students need to bring soap and a small dish\, pan or bowl to hold water. Dawn\, Ivory or an olive oil based soap is recommended.
X-ALT-DESC;FMTTYPE=text/html:<pre>\n<span style="font-size: 12pt\;"><span style="font-family: arial\,sans-serif\;"><span style="color: black\;">Create a one of a kind scarf using fabric\, merino wool\, soap and water. There will be a strong emphasis on color and design choices as well as fashioning a well-felted fabric that hangs softly. Learning this nuno technique is a starting point to create clothing\, pillows\, wall hangings and more. Beginners are welcome.</span></span></span></pre>\n\n<pre>\n<strong><span style="font-size: 12pt\;"><span style="font-family: arial\,sans-serif\;"><span style="color: black\;">NOTE:&nbsp\; This class will take place at the Shirt Factory\, Lawrence &amp\; Cooper Streets\, in Glens Falls\, NY. Call AFS for directions. Students need to bring soap and a small dish\, pan or bowl to hold water. Dawn\, Ivory or an olive oil based soap is recommended.</span></span></span></strong></pre>\n
LOCATION:The Shirt Factory Lawrence & Cooper Street Glens Falls\, NY. Call AFS for directions.
UID:e.2254.23071
SEQUENCE:3
DTSTAMP:20260419T225248Z
URL:http://saratogatourism-gzcms.preview.gochambermaster.com/events/details/nuno-patchwork-scarf-with-carol-ingram-1082-0625-1-day-23071
END:VEVENT

END:VCALENDAR
