BEGIN:VCALENDAR
VERSION:2.0
PRODID:-//ChamberMaster//Event Calendar 2.0//EN
METHOD:PUBLISH
X-PUBLISHED-TTL:P3D
REFRESH-INTERVAL:P3D
CALSCALE:GREGORIAN
BEGIN:VEVENT
DTSTART:20170120T183000Z
DTEND:20170120T200000Z
X-MICROSOFT-CDO-ALLDAYEVENT:FALSE
SUMMARY:Native American Storytelling
DESCRIPTION:James Bruchac is a an award winning author\, storyteller\, tracking expert\, wilderness instructor and guide. Raised in the Adirondack foothills town of Greenfield Center\, New York Jim is the eldest son of World renowned Abenaki Indian storyteller and author Joseph Bruchac III. Of Abenaki and Slovak descent Jim grew up immersed in the outdoors and the art of storytelling. \n\n\n\n$2/members $5/non-members
X-ALT-DESC;FMTTYPE=text/html:<span style="color:rgb(32\, 32\, 32)\; font-family:arial\,sans-serif\; font-size:16px">James Bruchac is a an award winning author\, storyteller\, tracking expert\, wilderness instructor and guide. Raised in the Adirondack foothills town of Greenfield Center\, New York Jim is the eldest son of World renowned Abenaki Indian storyteller and author Joseph Bruchac III. Of Abenaki and Slovak descent Jim grew up immersed in the outdoors and the art of storytelling.&nbsp\;<br />\n<br />\n$2/members $5/non-members</span>
LOCATION:The Adult and Senior Center of Saratoga 5 Williams Street Saratoga Springs\, NY 12866
UID:e.2254.21753
SEQUENCE:3
DTSTAMP:20260420T135824Z
URL:http://saratogatourism-gzcms.preview.gochambermaster.com/events/details/native-american-storytelling-21753
END:VEVENT

END:VCALENDAR
