BEGIN:VCALENDAR
VERSION:2.0
PRODID:-//ChamberMaster//Event Calendar 2.0//EN
METHOD:PUBLISH
X-PUBLISHED-TTL:P3D
REFRESH-INTERVAL:P3D
CALSCALE:GREGORIAN
BEGIN:VEVENT
DTSTART:20150721T213000Z
DTEND:20150722T000000Z
X-MICROSOFT-CDO-ALLDAYEVENT:FALSE
SUMMARY:National Association of Women in Construction Meeting
DESCRIPTION:Whether you work in residential or commercial construction\, we have an association that will help you attain your goals. Come learn how these associations can enhance your company and the success of the women that work there. Members will be at this Meet & Greet Networking Event so you can learn more about the associations\, membership\, and their education and professional development programs. Appetizers will be served and a cash bar will be available. Cost is $20.00. Reservations can be made at http://www.nawicnycap.org/Home_Page.html You can also contact Margie Miller at 518-490-1396 or Toni Cristo at 518-463-6985.
X-ALT-DESC;FMTTYPE=text/html:Whether you work in residential or commercial construction\, we have an association that will help you attain your goals. Come learn how these associations can enhance your company and the success of the women that work there. Members will be at this Meet &amp\; Greet Networking Event so you can learn more about the associations\, membership\, and their education and professional development programs. Appetizers will be served and a cash bar will be available. Cost is $20.00. Reservations can be made at http://www.nawicnycap.org/Home_Page.html You can also contact Margie Miller at 518-490-1396 or Toni Cristo at 518-463-6985.
LOCATION:The Mill on Round Lake 2121 Route 9\, Round Lake\, NY 12151
UID:e.2254.9679
SEQUENCE:3
DTSTAMP:20260423T052242Z
URL:http://saratogatourism-gzcms.preview.gochambermaster.com/events/details/national-association-of-women-in-construction-meeting-07-21-2015-9679
END:VEVENT

END:VCALENDAR
