BEGIN:VCALENDAR
VERSION:2.0
PRODID:-//ChamberMaster//Event Calendar 2.0//EN
METHOD:PUBLISH
X-PUBLISHED-TTL:P3D
REFRESH-INTERVAL:P3D
CALSCALE:GREGORIAN
BEGIN:VEVENT
DTSTART:20150510T150000Z
DTEND:20150510T180000Z
X-MICROSOFT-CDO-ALLDAYEVENT:FALSE
SUMMARY:Mother's Day Express Brunch Train
DESCRIPTION:Surprise Mom and let her know how special she is with a reservation on the "Mother's Day Express."  On-board\, guests will be treated to a fabulous 4-course brunch with all the attention showered on Mom\, as the family enjoys the picturesque spring views along the upper Hudson River.  This 3-hour round trip includes appetizers\, soup or salad\, choice of entr e and dessert\, all served tableside.  As the train rambles along the river\, enjoy the company\, the wonderful food and celebrate Mom on her special day.
X-ALT-DESC;FMTTYPE=text/html:Surprise Mom and let her know how special she is with a reservation on the &ldquo\;Mother&rsquo\;s Day Express.&rdquo\;&nbsp\; On-board\, guests will be treated to a fabulous 4-course brunch with all the attention showered on Mom\, as the family enjoys the picturesque spring views along the upper Hudson River.&nbsp\; This 3-hour round trip includes appetizers\, soup or salad\, choice of entr&eacute\;e and dessert\, all served tableside.&nbsp\; As the train rambles along the river\, enjoy the company\, the wonderful food and celebrate Mom on her special day.
LOCATION:Saratoga North Creek Railroad
UID:e.2254.6041
SEQUENCE:3
DTSTAMP:20260423T195017Z
URL:http://saratogatourism-gzcms.preview.gochambermaster.com/events/details/mother-s-day-express-brunch-train-05-10-2015-6041
END:VEVENT

END:VCALENDAR
