BEGIN:VCALENDAR
VERSION:2.0
PRODID:-//ChamberMaster//Event Calendar 2.0//EN
METHOD:PUBLISH
X-PUBLISHED-TTL:P3D
REFRESH-INTERVAL:P3D
CALSCALE:GREGORIAN
BEGIN:VEVENT
DTSTART:20150226T150000Z
DTEND:20150226T160000Z
X-MICROSOFT-CDO-ALLDAYEVENT:FALSE
SUMMARY:Mommy & Me. Bilingual
DESCRIPTION:Mommy & Me. Build a solid bilingual foundation for your toddler in the golden years of learning. During the early years your child can develop a natural sense of a second language like a native speaker. We have  researched didactic methods. You just need to bring your little genius\, your enthusiasm and your desire to raise a global citizen. Age Group: 12 to 36 Months Old Class Size: 10 Moms & Kids Pricing: Monthly: $30 per family Sessions: Thursdays from 10:00 AM to 11:00 AM. Saturdays from 9:45 AM to 10:45 AM.  Limited availability\, make a reservation today. Winter session From February 26th to March 30th. http://thegeniusplaza.com
X-ALT-DESC;FMTTYPE=text/html:Mommy &amp\; Me. Build a solid bilingual foundation for your toddler in the golden years of learning. During the early years your child can develop a natural sense of a second language like a native speaker. We have &nbsp\;researched didactic methods. You just need to bring your little genius\, your enthusiasm and your desire to raise a global citizen. Age Group: 12 to 36 Months Old Class Size: 10 Moms &amp\; Kids Pricing: Monthly: $30 per family Sessions: Thursdays from 10:00 AM to 11:00 AM. Saturdays from 9:45 AM to 10:45 AM. &nbsp\;Limited availability\, make a reservation today. Winter session From February 26th to March 30th. http://thegeniusplaza.com
LOCATION:The Genius Plaza - 511 Moe Road\, Clifton Park\, NY 12065
UID:e.2254.5772
SEQUENCE:3
DTSTAMP:20260423T225514Z
URL:http://saratogatourism-gzcms.preview.gochambermaster.com/events/details/mommy-me-bilingual-02-26-2015-5772
END:VEVENT

END:VCALENDAR
