BEGIN:VCALENDAR
VERSION:2.0
PRODID:-//ChamberMaster//Event Calendar 2.0//EN
METHOD:PUBLISH
X-PUBLISHED-TTL:P3D
REFRESH-INTERVAL:P3D
CALSCALE:GREGORIAN
BEGIN:VEVENT
DTSTART:20140920T120000Z
DTEND:20140921T180000Z
X-MICROSOFT-CDO-ALLDAYEVENT:FALSE
SUMMARY:Mohawk Hudson Bonsai Society - 09/20/2014
DESCRIPTION:Sept. 20\,  10 – 5  and Sunday Sept. 21\, 10 – 4.Mohawk Hudson Bonsai Society -  47th Anniversary Show to be held at the Saratoga Arts Center on Broadway to be held on Saturday\,   Sept. 20\,  10   5  and Sunday Sept. 21\, 10   4.\nFree Event.  There will be an extensive collection of trees\,  bonsai exhibits\, and demonstrations. Bring in your bonsai and receive free advice on its care or styling. Bonsai related items for sale.\n For further information   contact   Pauline@pfmbonsai.com  or (518) 882-1039
X-ALT-DESC;FMTTYPE=text/html:<p>Sept. 20\,  10 – 5  and Sunday Sept. 21\, 10 – 4.</p><p>Mohawk Hudson Bonsai Society -&nbsp\;&nbsp\;47<sup>th</sup> Anniversary Show to be held at the Saratoga Arts Center on Broadway to be held on Saturday\,&nbsp\; &nbsp\;Sept. 20\, &nbsp\;10 &ndash\; 5 &nbsp\;and Sunday Sept. 21\, 10 &ndash\; 4.</p>\n<p>Free Event.&nbsp\; There will be an extensive collection of trees\, &nbsp\;bonsai exhibits\, and demonstrations. Bring in your bonsai and receive free advice on its care or styling. Bonsai related items for sale.</p>\n<p>&nbsp\;For further information &ndash\; contact &ndash\; <a href="mailto:Pauline@pfmbonsai.com">Pauline@pfmbonsai.com</a>&nbsp\; or (518) 882-1039</p>
LOCATION:Saratoga Arts Center
UID:e.2254.3988
SEQUENCE:3
DTSTAMP:20260424T090616Z
URL:http://saratogatourism-gzcms.preview.gochambermaster.com/events/details/mohawk-hudson-bonsai-society-09-20-2014-09-20-2014-3988
END:VEVENT

END:VCALENDAR
