BEGIN:VCALENDAR
VERSION:2.0
PRODID:-//ChamberMaster//Event Calendar 2.0//EN
METHOD:PUBLISH
X-PUBLISHED-TTL:P3D
REFRESH-INTERVAL:P3D
CALSCALE:GREGORIAN
BEGIN:VEVENT
DTSTART:20150721T220000Z
DTEND:20150722T000000Z
X-MICROSOFT-CDO-ALLDAYEVENT:FALSE
SUMMARY:Modern Woman's Guide to Love Power
DESCRIPTION:Are you a successful woman caught in the cycle of unsatisfying relationships?\n	Have you felt lonely\, confused or resentful this summer?\n	Do you lose your Self\, or independence\, or give away your power when you are in relationships?\n	Do you make relationship decisions based on fear of being alone rather than following what your heart truly desires?\n\n\n Discover the keys to your power to attract and buildt "Enlightened Relationships" Learn to recognize the depths of your  power and the true sources of relationship connection. Feel confident in your ability to attract and nurture relationships you truly desire and trust yourself to get your needs met in any relationship.\n\nRegister Today and receive a Free Bonus Audio Astrology & Romance Heartbreak Healing Guide  (Heal Your Heart Guide for each of the 12 Signs of the Zodiac).\n\nSign up by 7/4 and receive a complimentary 20 minute phone consultation to explore your attraction power in depth following the workshop.\n\nNo need to feel lost\, confused or lonely any longer. Amp up your attraction energy\, harness your personal power and magnetize your ability to attract new love or recharge the love you have already found.\n\nLove doesn't come to women who are LUCKY\, it comes to women who are READY\, so get READY for LOVE!
X-ALT-DESC;FMTTYPE=text/html:<ul>\n	<li><span style="font-family: arial\,sans-serif\; font-size: 12pt\;">Are you a successful woman caught in the cycle of unsatisfying relationships?</span></li>\n	<li><span style="font-family: arial\,sans-serif\; font-size: 12pt\;">Have you felt lonely\, confused or resentful this summer?</span></li>\n	<li><span style="font-family: arial\,sans-serif\; font-size: 12pt\;">Do you lose your Self\, or independence\, or give away your power when you are in relationships?</span></li>\n	<li><span style="font-family: arial\,sans-serif\; font-size: 12pt\;">Do you make relationship decisions based on fear of being alone rather than following what your heart truly desires?</span></li>\n</ul>\n\n<p><span style="font-family: arial\,sans-serif\; font-size: 12pt\;">&nbsp\;Discover the keys to your power to attract and buildt &ldquo\;Enlightened Relationships&rdquo\; Learn to recognize the depths of your &nbsp\;power and the true sources of relationship connection. Feel confident in your ability to attract and nurture relationships you truly desire and trust yourself to get your needs met in any relationship.</span></p>\n\n<p><strong><span style="font-size: 14px\;">Register Today and receive a Free Bonus Audio Astrology &amp\; Romance Heartbreak Healing Guide &nbsp\;(Heal Your Heart Guide for each of the 12 Signs of the Zodiac).</span></strong></p>\n\n<p><strong><span style="font-size: 14px\;">Sign up by 7/4 and receive a complimentary 20 minute phone consultation to explore your attraction power in depth following the workshop.</span></strong></p>\n\n<p>No need to feel lost\, confused or lonely any longer. Amp up your attraction energy\, harness your personal power and magnetize your ability to attract new love or recharge the love you have already found.</p>\n\n<p><strong>Love doesn&#39\;t come to women who are LUCKY\, it comes to women who are READY\, so get READY for LOVE!</strong></p>\n
LOCATION:2 Franklin Sq Saratoga Springs NY (Namaste Yoga Studio)
UID:e.2254.9982
SEQUENCE:3
DTSTAMP:20260423T033825Z
URL:http://saratogatourism-gzcms.preview.gochambermaster.com/events/details/modern-woman-s-guide-to-love-power-07-21-2015-9982
END:VEVENT

END:VCALENDAR
