BEGIN:VCALENDAR
VERSION:2.0
PRODID:-//ChamberMaster//Event Calendar 2.0//EN
METHOD:PUBLISH
X-PUBLISHED-TTL:P3D
REFRESH-INTERVAL:P3D
CALSCALE:GREGORIAN
BEGIN:VEVENT
DTSTART:20160625T130000Z
DTEND:20160625T170000Z
X-MICROSOFT-CDO-ALLDAYEVENT:FALSE
SUMMARY:MHHS Paws in the Park
DESCRIPTION:The Mohawk Hudson Humane Society presents the Paws in the Park walk for animals on Saturday\, June 25 at Siena College\, 515 Loudon Road in Loudonville\, from 9:00 a.m. to 1:00 p.m. The event features activities for people and dogs and raises money to help the Mohawk Hudson Humane Society care for literally thousands of the Capital Region's animals through sheltering and adoption\, veterinary care\, animal enrichment\, cruelty investigation\, low-cost spay/neuter and many more programs that keep animals safe in our community. Activities include a Doggy Fun Zone\, blessing of the animals\, claw clipping and micro-chipping for dogs\, the Flea-less Marketplace which features vendors\, along with music\, contests\, prizes\, food and more. Participants may walk as individuals or as part of a team\, with or without a canine companion. Walkers collect pledges and earn prizes based on the amount raised.
X-ALT-DESC;FMTTYPE=text/html:The Mohawk Hudson Humane Society presents the Paws in the Park walk for animals on Saturday\, June 25 at Siena College\, 515 Loudon Road in Loudonville\, from 9:00 a.m. to 1:00 p.m. The event features activities for people and dogs and raises money to help the Mohawk Hudson Humane Society care for literally thousands of the Capital Region&rsquo\;s animals through sheltering and adoption\, veterinary care\, animal enrichment\, cruelty investigation\, low-cost spay/neuter and many more programs that keep animals safe in our community. Activities include a Doggy Fun Zone\, blessing of the animals\, claw clipping and micro-chipping for dogs\, the Flea-less Marketplace which features vendors\, along with music\, contests\, prizes\, food and more. Participants may walk as individuals or as part of a team\, with or without a canine companion. Walkers collect pledges and earn prizes based on the amount raised.
LOCATION:Siena College\, 515 Loudon Road\, Loudonville\, 12211
UID:e.2254.16883
SEQUENCE:3
DTSTAMP:20260421T061713Z
URL:http://saratogatourism-gzcms.preview.gochambermaster.com/events/details/mhhs-paws-in-the-park-06-25-2016-16883
END:VEVENT

END:VCALENDAR
