BEGIN:VCALENDAR
VERSION:2.0
PRODID:-//ChamberMaster//Event Calendar 2.0//EN
METHOD:PUBLISH
X-PUBLISHED-TTL:P3D
REFRESH-INTERVAL:P3D
CALSCALE:GREGORIAN
BEGIN:VEVENT
DTSTART:20170508T213000Z
DTEND:20170509T010000Z
X-MICROSOFT-CDO-ALLDAYEVENT:FALSE
SUMMARY:May Day Spring Fling
DESCRIPTION:Saratoga County Economic Opportunity Councils Annual May Day Spring Fling dinner and auction will be held on Monday\, May 8\, 2017 at the Canfield Casino in Saratoga Springs. This fun evening includes appetizers\, dinner\, dessert and complimentary drinks provided by Longfellows Restaurant\, Hotel and Conference Center and The Olde Bryan Inn\, as well as silent and live auctions. This is the major fundraising event for the Saratoga County EOC. EOC is a not for profit organization that has helped income eligible residents of Saratoga County since 1973. Reservations are $80 per person with various sponsorship levels. Reservations for the event are limited. For more information contact Kristi Fox at 518-288-3206 ext. 111 or k.fox@saratogaeoc.org
X-ALT-DESC;FMTTYPE=text/html:Saratoga County Economic Opportunity Councils Annual May Day Spring Fling dinner and auction will be held on Monday\, May 8\, 2017 at the Canfield Casino in Saratoga Springs. This fun evening includes appetizers\, dinner\, dessert and complimentary drinks provided by Longfellows Restaurant\, Hotel and Conference Center and The Olde Bryan Inn\, as well as silent and live auctions. This is the major fundraising event for the Saratoga County EOC. EOC is a not for profit organization that has helped income eligible residents of Saratoga County since 1973. Reservations are $80 per person with various sponsorship levels. Reservations for the event are limited. For more information contact Kristi Fox at 518-288-3206 ext. 111 or k.fox@saratogaeoc.org
LOCATION:Canfield Casino in Saratoga Springs
UID:e.2254.7730
SEQUENCE:3
DTSTAMP:20260420T002943Z
URL:http://saratogatourism-gzcms.preview.gochambermaster.com/events/details/may-day-spring-fling-05-04-2016-7730
END:VEVENT

END:VCALENDAR
