BEGIN:VCALENDAR
VERSION:2.0
PRODID:-//ChamberMaster//Event Calendar 2.0//EN
METHOD:PUBLISH
X-PUBLISHED-TTL:P3D
REFRESH-INTERVAL:P3D
CALSCALE:GREGORIAN
BEGIN:VEVENT
DTSTART:20160213T140000Z
DTEND:20160213T180000Z
X-MICROSOFT-CDO-ALLDAYEVENT:FALSE
SUMMARY:LOVE Local at the Saratoga Farmers' Market
DESCRIPTION:In honor of Valentine's Day weekend\, we have a market all about loving our loyal customers\, the City of Saratoga Springs\, and our local farms and businesses. We will have a variety of specials\, freebies\, and Valentine's day offerings throughout the market! We will also have live Irish and Celtic music by Craic Agus Ceol. And\, the Saratoga Springs Public Library will offer a free activity for kids - make a Valentine!
X-ALT-DESC;FMTTYPE=text/html:In honor of Valentine&#39\;s Day weekend\, we have a market all about loving our loyal customers\, the City of Saratoga Springs\, and our local farms and businesses. We will have a variety of specials\, freebies\, and Valentine&#39\;s day offerings throughout the market! We will also have live Irish and Celtic music by Craic Agus Ceol. And\, the Saratoga Springs Public Library will offer a free activity for kids - make a Valentine!
LOCATION:Saratoga Farmers' Market Lincoln Baths Saratoga Spa State Park 65 South Broadway Saratoga Springs\, NY 12866
UID:e.2254.14865
SEQUENCE:3
DTSTAMP:20260422T014501Z
URL:http://saratogatourism-gzcms.preview.gochambermaster.com/events/details/love-local-at-the-saratoga-farmers-market-02-13-2016-14865
END:VEVENT

END:VCALENDAR
