BEGIN:VCALENDAR
VERSION:2.0
PRODID:-//ChamberMaster//Event Calendar 2.0//EN
METHOD:PUBLISH
X-PUBLISHED-TTL:P3D
REFRESH-INTERVAL:P3D
CALSCALE:GREGORIAN
BEGIN:VEVENT
DTSTART:20150416T230000Z
DTEND:20150417T010000Z
X-MICROSOFT-CDO-ALLDAYEVENT:FALSE
SUMMARY:Long Room Lecture - Ancestors Lost and Found: A Family Heritage Panel Discussion
DESCRIPTION:Be inspired to climb your own family tree! Explore a variety of ways to approach family histories and hear about adventures in genealogical research. Presenters will discuss their experiences with DNA testing to fill in blanks on the family tree\, using paper and online archives\, as well as field work and oral traditions. Pre-registration is not required. This lecture is best suited for adults and older students.
X-ALT-DESC;FMTTYPE=text/html:Be inspired to climb your own family tree! Explore a variety of ways to approach family histories and hear about adventures in genealogical research. Presenters will discuss their experiences with DNA testing to fill in blanks on the family tree\, using paper and online archives\, as well as field work and oral traditions. Pre-registration is not required. This lecture is best suited for adults and older students.
LOCATION:Brookside Museum\, 6 Charlton Street\, Ballston Spa
UID:e.2254.7676
SEQUENCE:3
DTSTAMP:20260423T195738Z
URL:http://saratogatourism-gzcms.preview.gochambermaster.com/events/details/long-room-lecture-ancestors-lost-and-found-a-family-heritage-panel-discussion-04-16-2015-7676
END:VEVENT

END:VCALENDAR
