BEGIN:VCALENDAR
VERSION:2.0
PRODID:-//ChamberMaster//Event Calendar 2.0//EN
METHOD:PUBLISH
X-PUBLISHED-TTL:P3D
REFRESH-INTERVAL:P3D
CALSCALE:GREGORIAN
BEGIN:VEVENT
DTSTART:20160809T153000Z
DTEND:20160809T180000Z
X-MICROSOFT-CDO-ALLDAYEVENT:FALSE
SUMMARY:Live Strong\, Live Fun Luncheon
DESCRIPTION:The Saratoga Regional YMCA invites you to an entertaining luncheon at Longfellows\, located at 500 Union Ave\, Saratoga Springs\, NY\, to support the LIVESTRONG at the YMCA program.\n\n\n\nCommittee\n\nGinny D'Ambrogio - Co-Chair\, Cindy Swadba - Co-Chair\n\n\n\nCarol Battaglia\, Tara Cosgrove\, Gini Griffen\, Carol Gunderson\, Tracy Gutermuth\, Tina McWhinnie\, Mary Shimp\, Carolyn Tang\, Bill Blake\, Amanda Brandeburg\, Kim Brown\, Jason Drolet\, Lauren Frankford\, John Higgins\, Jenny Killian\, Gina Moore\, and Susan Rhoades\n\n	Entertainment provided by DeJaVu Jazz\n	Tarot Card Readings\n	Silent Auction\n	Saratoga PhotoBooth Company\n	Wine Pull\n\n\n\nTickets available at www.srymca.org: $50/person or $90/couple
X-ALT-DESC;FMTTYPE=text/html:<em>The Saratoga Regional YMCA invites you to an entertaining luncheon at Longfellows\, located at 500 Union Ave\, Saratoga Springs\, NY\, to support the LIVESTRONG at the YMCA program.</em><br />\n<br />\n<u>Committee</u><br />\nGinny D&rsquo\;Ambrogio - Co-Chair\, Cindy Swadba - Co-Chair<br />\n<br />\nCarol Battaglia\, Tara Cosgrove\, Gini Griffen\, Carol Gunderson\,&nbsp\;Tracy Gutermuth\, Tina McWhinnie\, Mary Shimp\, Carolyn Tang\,&nbsp\;Bill Blake\, Amanda Brandeburg\, Kim Brown\, Jason Drolet\,&nbsp\;Lauren Frankford\, John Higgins\, Jenny Killian\, Gina Moore\,&nbsp\;and Susan Rhoades\n<ul>\n	<li>Entertainment provided by DeJaVu Jazz</li>\n	<li>Tarot Card Readings</li>\n	<li>Silent Auction</li>\n	<li>Saratoga PhotoBooth Company</li>\n	<li>Wine Pull</li>\n</ul>\n<br />\n<strong>Tickets available at www.srymca.org: $50/person or $90/couple</strong>
LOCATION:Longfellows\, located at 500 Union Ave\, Saratoga Springs\, NY
UID:e.2254.17126
SEQUENCE:3
DTSTAMP:20260421T014513Z
URL:http://saratogatourism-gzcms.preview.gochambermaster.com/events/details/live-strong-live-fun-luncheon-08-09-2016-17126
END:VEVENT

END:VCALENDAR
